BEGIN:VCALENDAR
PRODID:NingEventWidget-v1
VERSION:2.0
METHOD:PUBLISH
BEGIN:VTIMEZONE
TZID:America/Los_Angeles
X-LIC-LOCATION:America/Los_Angeles
BEGIN:DAYLIGHT
TZOFFSETFROM:-0800
TZOFFSETTO:-0700
TZNAME:PDT
DTSTART:19700308T020000
RRULE:FREQ=YEARLY;BYMONTH=3;BYDAY=2SU
END:DAYLIGHT
BEGIN:STANDARD
TZOFFSETFROM:-0700
TZOFFSETTO:-0800
TZNAME:PST
DTSTART:19701101T020000
RRULE:FREQ=YEARLY;BYMONTH=11;BYDAY=1SU
END:STANDARD
END:VTIMEZONE
BEGIN:VEVENT
UID:1464587:Event:29583
DTSTAMP:20260420T230141Z
SUMMARY:Plump Djs
DESCRIPTION:US Premiere of PLUMP DJ's at MIGHTY\n\nThe Plump DJs are a
  global phenomenon. Their London night Passenger was instrumental in d
 eveloping breakbeat into the sound we hear today, as well as giving it
  a massive boost into the general club land consciousness of the time.
 \n\nThe Plumps’ own productions have also been groundbreaking. You c
 an hear them played everywhere from Funky House to UK Garage nights, b
 eing caned by DJ’s from Erick Morillo to Rob Tissera.\n\nTheir Hot M
 ix for Radio One’s Essential Selection is the most downloaded segmen
 t in the shows history, and their regular Eargasm nights at Fabric con
 tinue to break the London superclubs attendance records.\n\nBut of cou
 rse, you know all that. You want to know the more interesting question
 s, like who they tip for the top, and just why they don’t play in Am
 erica…until now!\n\n\nStrictly limited advance tickets & VIP Full Op
 en Bar tickets.\nVIP Tickets include Head-of-Line privileges, immediat
 e entry and Full Open Bar\n\nFor more information visit https://truesk
 ool.com/events/plump-djs
DTSTART;TZID=America/Los_Angeles:20090417T220000
DTEND;TZID=America/Los_Angeles:20090418T040000
CATEGORIES:breakbeat
LOCATION:Mighty, San Francisco
WEBSITE:http://www.wantickets.com/EventDetail.aspx?e_id=54551
URL:http://www.wantickets.com/EventDetail.aspx?e_id=54551
CONTACT:
ORGANIZER;CN="Carey Kopp":https://trueskool.com/profile/k85
ATTACH;FMTTYPE="image/jpeg":http://storage.ning.com/topology/rest/1.0/
 file/get/2247855277?profile=original
ATTENDEE;ROLE=REQ-PARTICIPANT;PARTSTAT=ACCEPTED;RSVP=TRUE;CN="Carey Ko
 pp":https://trueskool.com/profile/k85
END:VEVENT
END:VCALENDAR
