BEGIN:VCALENDAR
PRODID:NingEventWidget-v1
VERSION:2.0
METHOD:PUBLISH
BEGIN:VTIMEZONE
TZID:America/Los_Angeles
X-LIC-LOCATION:America/Los_Angeles
BEGIN:DAYLIGHT
TZOFFSETFROM:-0800
TZOFFSETTO:-0700
TZNAME:PDT
DTSTART:19700308T020000
RRULE:FREQ=YEARLY;BYMONTH=3;BYDAY=2SU
END:DAYLIGHT
BEGIN:STANDARD
TZOFFSETFROM:-0700
TZOFFSETTO:-0800
TZNAME:PST
DTSTART:19701101T020000
RRULE:FREQ=YEARLY;BYMONTH=11;BYDAY=1SU
END:STANDARD
END:VTIMEZONE
BEGIN:VEVENT
UID:1464587:Event:62900
DTSTAMP:20260420T230341Z
SUMMARY:Platinum: All White Affair
DESCRIPTION:1221 Entertainment returns to Club Anton Friday, August 13
 , 2010 to present...\n\nPLATINUM : All White Affair\n\nDJ Shug & DJ Be
 at Thoz in the mix all night long spinning the hottest Hip Hop, R&B, C
 lub Hits and Bay Classics\nCOMPLIMENTARY CHAMPAGNE FROM 10PM TO 11PM!!
 !\n\nMature 21+ Event, I.D. Required\n\nDoors Open at 10pm\n\n$5 BEFOR
 E 11PM W/FLYER OR GUESTLIST, AUGUST BIRTHDAYS FREE ALL NIGHT W/VALID I
 .D.\n\nDress Code Strictly Enforced If Not In Themed Attire, All White
  Preferred But Not Required...\nGentlemen: no tennis shoes, athletic a
 ttire, t shirts, hats or baggy clothing. Jeans are ok, collared shirts
  required.\nLadies: keep it sexy and classy as you always do!\n\nCeleb
 rating a special occasion? Let us help you do it big, bottle service s
 tarting at $150 and includes admission of up to 5 additional guests. F
 or full price list or to reserve your table, contact info@1221entertai
 nment.com...\n\nFor more information visit https://trueskool.com/event
 s/platinum-all-white-affair
DTSTART;TZID=America/Los_Angeles:20100813T220000
DTEND;TZID=America/Los_Angeles:20100814T020000
CATEGORIES:hip, hop, "r&b", club, hits, bay, classics
LOCATION:Club Anton
WEBSITE:http://www.clubanton.com
URL:http://www.clubanton.com
CONTACT:
ORGANIZER:1221 Entertainment
ATTACH;FMTTYPE="image/jpeg":http://storage.ning.com/topology/rest/1.0/
 file/get/2187315197?profile=original
ATTENDEE;ROLE=REQ-PARTICIPANT;PARTSTAT=ACCEPTED;RSVP=TRUE;CN="Zeke Rob
 inson":https://trueskool.com/profile/ZekeRobinson
END:VEVENT
END:VCALENDAR
