BEGIN:VCALENDAR
PRODID:NingEventWidget-v1
VERSION:2.0
METHOD:PUBLISH
BEGIN:VTIMEZONE
TZID:America/Los_Angeles
X-LIC-LOCATION:America/Los_Angeles
BEGIN:DAYLIGHT
TZOFFSETFROM:-0800
TZOFFSETTO:-0700
TZNAME:PDT
DTSTART:19700308T020000
RRULE:FREQ=YEARLY;BYMONTH=3;BYDAY=2SU
END:DAYLIGHT
BEGIN:STANDARD
TZOFFSETFROM:-0700
TZOFFSETTO:-0800
TZNAME:PST
DTSTART:19701101T020000
RRULE:FREQ=YEARLY;BYMONTH=11;BYDAY=1SU
END:STANDARD
END:VTIMEZONE
BEGIN:VEVENT
UID:1464587:Event:63499
DTSTAMP:20260420T225143Z
SUMMARY:PLANET BLOCK: a gulf wildlife benefit at MEZZANINE SF
DESCRIPTION:The Farmers Block is proud to announce our gulf benefit at
  Mezanine is in full swing with a ton of awesome hip hop, turntablist,
  and dj performances; along with live art and most of all, vegan frien
 dly chef's and raw food specialists dishing up the finest and healthie
 st hors d'oeuvres. Really cool featured vendors, giveaways, raffles, a
 nd tons more... $5 til 10pm $10 after 10pm.\n\nall 411 on our official
  facebook page http://bit.ly/az8H4K\nfind us on yelp too... http://bit
 .ly/a3rfqO\n\nFor more information visit https://trueskool.com/events/
 planet-block-a-gulf-wildlife
DTSTART;TZID=America/Los_Angeles:20100819T170000
DTEND;TZID=America/Los_Angeles:20100820T020000
CATEGORIES:san, francisco, ca
LOCATION:MEZZANINE SF, SAN FRANCISCO, CA
WEBSITE:http://mezzaninesf.com
URL:http://mezzaninesf.com
CONTACT:(415) 625-8880
ORGANIZER:THE FARMER: http://thefarmersblock.tumblr.com
ATTACH;FMTTYPE="image/jpeg":http://storage.ning.com/topology/rest/1.0/
 file/get/2247884371?profile=original
ATTENDEE;ROLE=REQ-PARTICIPANT;PARTSTAT=ACCEPTED;RSVP=TRUE;CN="THE FARM
 ER":https://trueskool.com/profile/THEFARMER
END:VEVENT
END:VCALENDAR
