BEGIN:VCALENDAR
PRODID:NingEventWidget-v1
VERSION:2.0
METHOD:PUBLISH
BEGIN:VTIMEZONE
TZID:America/Los_Angeles
X-LIC-LOCATION:America/Los_Angeles
BEGIN:DAYLIGHT
TZOFFSETFROM:-0800
TZOFFSETTO:-0700
TZNAME:PDT
DTSTART:19700308T020000
RRULE:FREQ=YEARLY;BYMONTH=3;BYDAY=2SU
END:DAYLIGHT
BEGIN:STANDARD
TZOFFSETFROM:-0700
TZOFFSETTO:-0800
TZNAME:PST
DTSTART:19701101T020000
RRULE:FREQ=YEARLY;BYMONTH=11;BYDAY=1SU
END:STANDARD
END:VTIMEZONE
BEGIN:VEVENT
UID:1464587:Event:678542
DTSTAMP:20260421T080208Z
SUMMARY:PJ MORTON (WIN TICKETS)
DESCRIPTION:ENTER TO WIN A PAIR OF TICKETS. WINNER WILL BE DRAWN RANDO
 MLY AND ANNOUNCED 2 DAYS PRIOR TO EVENT.\r\n\r\n\r\n\r\nSunday, Decemb
 er 02, 2018\r\nPJ MORTON\r\n  Grace Weber\r\n\r\nThe Independent\r\n S
 an Francisco, CA\r\n Doors: 7:30pm | Show: 8:00pm\r\nThis event is 21 
 and over.\r\n>> BUY TICKETS\r\n\r\n\r\n\n\nFor more information visit 
 https://trueskool.com/events/pj-morton
DTSTART;TZID=America/Los_Angeles:20181202T200000
DTEND;TZID=America/Los_Angeles:20181202T230000
CATEGORIES:"bay area", oakland, "san francisco", "san jose", berkeley
LOCATION:The Independent, San Francisco
WEBSITE:https://www.ticketfly.com/purchase/event/1758139?camefrom=CFC_
 ANOTHERPLANET_web&amp;amp;brand=anotherplanet
URL:https://www.ticketfly.com/purchase/event/1758139?camefrom=CFC_ANOT
 HERPLANET_web&amp;amp;brand=anotherplanet
CONTACT:
ORGANIZER:Another Planet Ent
ATTACH;FMTTYPE="image/jpeg":http://storage.ning.com/topology/rest/1.0/
 file/get/2248009783?profile=original
ATTENDEE;ROLE=REQ-PARTICIPANT;PARTSTAT=ACCEPTED;RSVP=TRUE;CN="Editor's
  Pick":https://trueskool.com/profile/RentheVinylArchaeologist
END:VEVENT
END:VCALENDAR
