BEGIN:VCALENDAR
PRODID:NingEventWidget-v1
VERSION:2.0
METHOD:PUBLISH
BEGIN:VTIMEZONE
TZID:America/Los_Angeles
X-LIC-LOCATION:America/Los_Angeles
BEGIN:DAYLIGHT
TZOFFSETFROM:-0800
TZOFFSETTO:-0700
TZNAME:PDT
DTSTART:19700308T020000
RRULE:FREQ=YEARLY;BYMONTH=3;BYDAY=2SU
END:DAYLIGHT
BEGIN:STANDARD
TZOFFSETFROM:-0700
TZOFFSETTO:-0800
TZNAME:PST
DTSTART:19701101T020000
RRULE:FREQ=YEARLY;BYMONTH=11;BYDAY=1SU
END:STANDARD
END:VTIMEZONE
BEGIN:VEVENT
UID:1464587:Event:834395
DTSTAMP:20260421T082832Z
SUMMARY:PINK SWEAT$
DESCRIPTION:PINK SWEAT$\r\nSunday, March 02, 2025 Doors: 6:30pm | Show
 : 7:30pm\r\nFox Theater 1807 Telegraph Ave, Oakland, CA 94612\n\nFor m
 ore information visit https://trueskool.com/events/pink-sweat-2
DTSTART;TZID=America/Los_Angeles:20250302T193000
DTEND;TZID=America/Los_Angeles:20250302T233000
CATEGORIES:"bay area", oakland, "san francisco", "san jose", berkeley
LOCATION:Fox Theater
WEBSITE:https://www.ticketmaster.com/pink-sweat-oakland-california-03-
 02-2025/event/1C006168DC722D8E?camefrom=CFC_ANOTHERPLANET_web&amp;bran
 d=anotherplanet
URL:https://www.ticketmaster.com/pink-sweat-oakland-california-03-02-2
 025/event/1C006168DC722D8E?camefrom=CFC_ANOTHERPLANET_web&amp;brand=an
 otherplanet
CONTACT:
ORGANIZER;CN="Editor's Pick":https://trueskool.com/profile/RentheVinyl
 Archaeologist
ATTACH;FMTTYPE="image/jpeg":https://storage.ning.com/topology/rest/1.0
 /file/get/13432243471?profile=original
ATTENDEE;ROLE=REQ-PARTICIPANT;PARTSTAT=ACCEPTED;RSVP=TRUE;CN="Editor's
  Pick":https://trueskool.com/profile/RentheVinylArchaeologist
END:VEVENT
END:VCALENDAR
