BEGIN:VCALENDAR
PRODID:NingEventWidget-v1
VERSION:2.0
METHOD:PUBLISH
BEGIN:VTIMEZONE
TZID:America/Los_Angeles
X-LIC-LOCATION:America/Los_Angeles
BEGIN:DAYLIGHT
TZOFFSETFROM:-0800
TZOFFSETTO:-0700
TZNAME:PDT
DTSTART:19700308T020000
RRULE:FREQ=YEARLY;BYMONTH=3;BYDAY=2SU
END:DAYLIGHT
BEGIN:STANDARD
TZOFFSETFROM:-0700
TZOFFSETTO:-0800
TZNAME:PST
DTSTART:19701101T020000
RRULE:FREQ=YEARLY;BYMONTH=11;BYDAY=1SU
END:STANDARD
END:VTIMEZONE
BEGIN:VEVENT
UID:1464587:Event:375001
DTSTAMP:20260421T033140Z
SUMMARY:Pink Mammoth Block Party Fundraiser
DESCRIPTION: Saturday, June 28th, 2014  Pink Mammoth and Mighty presen
 t  PINK MAMMOTH BLOCK PARTY FUNDRAISER The biggest 21+ summer house mu
 sic block party on the West Coast. The marathon event takes place in i
 ts entirety from 12pm-4am. (Outside during the day on Utah St between 
 15th and Alameda sts and also later inside of Mighty) In an effort to 
 raise money for Pink Mammoth’s annual production at Burning Man as w
 ell as for breast cancer research and assistance, all proceeds will be
  donated to both of these worthy causes.\nThe DJ lineup will feature 3
 7 Djs spinning deep, funky, disco, dirty, tech, and Latin house sounds
  in 4 areas of sound. Confirmed DJ Lineup:\n1 MORE BIG SURPRISE HEADLI
 NER GUEST TBA – STAY TUNED!!!\nDROOG (Culprit, LA) - Andrei Osyka, B
 rett Griffin, Justin Sloe WOLF + LAMB (ZEV) M A N I K (OVUM, Black But
 ter, Hot Creations, NYC) Marques Wyatt (Deep, LA) David Harness (Might
 y Real, Harlum Muziq, SF) Fred Everything (Lazy Days Recordings, SF)\n
 Pink Mammoth Djs Gravity, Jonathan Will, Derek Hena, RawC, Zach Walker
 , Moe Moe, SunDragon\nSyd Gris (Opel, Opulent Temple) DJ Rooz (Deep Bl
 ue) John Dill (Robot Heart) Tara Brooks (Mur Music, LA) Darren Grayson
  & Ben Seagren (Distrikt) Tamo & Zach Moore (Space Cowboys) Atish (Lis
 ted) Anthony Mansfield (Disco Knights) Bells & Whistles (As You Like I
 t, Four Sweaters) Jacques the Ripper (Kundalini Lounge) Rescue (Guesth
 ouse Music, InStereo Recordings, Denver) Miguel Solari & Tyrel William
 s (Housepitality) Vitamindevo & Alastair (Heart Phoenix) Flavio Navarr
 o (Playa del Carmen, Mexico) Kevin Anderson (Desert Hearts, Lovelife) 
 J.Cush (Pocket Underground) Wobs (Focus OC, Pocket Underground) Adrian
  Ravelo (SoundPark/Beef Cuts)\n@ Mighty SF 12pm-4am | 21+ W/ ID >> BUY
  TICKETS\n\nFor more information visit https://trueskool.com/events/pi
 nk-mammoth-block-party-fundraiser
DTSTART;TZID=America/Los_Angeles:20140628T120000
DTEND;TZID=America/Los_Angeles:20140629T040000
CATEGORIES:"bay area", "san francisco"
LOCATION:Mighty, San Francisco
WEBSITE:http://www.pinkmammoth.org/events/block-party/
URL:http://www.pinkmammoth.org/events/block-party/
CONTACT:
ORGANIZER:Pink Mammoth & Mighty
ATTACH;FMTTYPE="image/jpeg":http://storage.ning.com/topology/rest/1.0/
 file/get/2247962675?profile=original
ATTENDEE;ROLE=REQ-PARTICIPANT;PARTSTAT=ACCEPTED;RSVP=TRUE;CN="Editor's
  Pick":https://trueskool.com/profile/RentheVinylArchaeologist
END:VEVENT
END:VCALENDAR
