BEGIN:VCALENDAR
PRODID:NingEventWidget-v1
VERSION:2.0
METHOD:PUBLISH
BEGIN:VTIMEZONE
TZID:America/Los_Angeles
X-LIC-LOCATION:America/Los_Angeles
BEGIN:DAYLIGHT
TZOFFSETFROM:-0800
TZOFFSETTO:-0700
TZNAME:PDT
DTSTART:19700308T020000
RRULE:FREQ=YEARLY;BYMONTH=3;BYDAY=2SU
END:DAYLIGHT
BEGIN:STANDARD
TZOFFSETFROM:-0700
TZOFFSETTO:-0800
TZNAME:PST
DTSTART:19701101T020000
RRULE:FREQ=YEARLY;BYMONTH=11;BYDAY=1SU
END:STANDARD
END:VTIMEZONE
BEGIN:VEVENT
UID:1464587:Event:69873
DTSTAMP:20260421T003030Z
SUMMARY:PINK - featuring DJ SPINDERELLA (Salt n' Peppa)
DESCRIPTION:LoveJunkeeDjs.Com, Papalote, DJ Mr.E and SOM present\n\n((
 ((( PINK )))))\n\nFRIDAY NOVEMBER 12TH 2010\nat SOM (formerly Club PIN
 K)\n\n\nfeat,\nSPINDERELLA (Salt n' Peppa)\n\nhosted by MELINA JONES\n
 \nalongside DJs\n\nKAT O1O (Crown City Rockers)\nDJ SYREHN (LA / LoveJ
 unkeeDJs)\n\nplus dj host,\nDJ Mr.E (Papalote Hi-Fi)\n\n\n@ SOM SF\n29
 25 16th St (between Van Ness Ave & Capp St)\n21 n UP - 10pm - 3AM\n$10
  befor 11:30\n\nFREE Before 10:30 LIST / Bdays / Large Groups\ndajoint
 sf@hotmail.com\n\nFor more information visit https://trueskool.com/eve
 nts/pink-featuring-dj-spinderella
DTSTART;TZID=America/Los_Angeles:20101112T220000
DTEND;TZID=America/Los_Angeles:20101113T030000
CATEGORIES:san, francisco, ca
LOCATION:SOM
WEBSITE:http://www.facebook.com/event.php?eid=159870640711626
URL:http://www.facebook.com/event.php?eid=159870640711626
CONTACT:
ORGANIZER;CN="Kat O1O":https://trueskool.com/profile/KatO1O
ATTACH;FMTTYPE="image/jpeg":http://storage.ning.com/topology/rest/1.0/
 file/get/2247885248?profile=original
ATTENDEE;ROLE=REQ-PARTICIPANT;PARTSTAT=ACCEPTED;RSVP=TRUE;CN="Kat O1O"
 :https://trueskool.com/profile/KatO1O
END:VEVENT
END:VCALENDAR
