BEGIN:VCALENDAR
PRODID:NingEventWidget-v1
VERSION:2.0
METHOD:PUBLISH
BEGIN:VTIMEZONE
TZID:America/Los_Angeles
X-LIC-LOCATION:America/Los_Angeles
BEGIN:DAYLIGHT
TZOFFSETFROM:-0800
TZOFFSETTO:-0700
TZNAME:PDT
DTSTART:19700308T020000
RRULE:FREQ=YEARLY;BYMONTH=3;BYDAY=2SU
END:DAYLIGHT
BEGIN:STANDARD
TZOFFSETFROM:-0700
TZOFFSETTO:-0800
TZNAME:PST
DTSTART:19701101T020000
RRULE:FREQ=YEARLY;BYMONTH=11;BYDAY=1SU
END:STANDARD
END:VTIMEZONE
BEGIN:VEVENT
UID:1464587:Event:672513
DTSTAMP:20260421T053652Z
SUMMARY:Pimps Of Joytime w/ Lyrics Born
DESCRIPTION:ENTER TO WIN A PAIR OF TICKETS. WINNER WILL BE DRAWN RANDO
 MLY AND ANNOUNCED 2 DAYS PRIOR TO EVENT.\r\n Friday, March 9 Pimps Of 
 Joytime Lyrics Born\r\n@ The UC Theatre, Berkeley Doors: 8:00 pm / Sho
 w: 9:00 pm >> BUY TICKETS\r\n\n\nFor more information visit https://tr
 ueskool.com/events/pimps-of-joytime-w-lyrics-born
DTSTART;TZID=America/Los_Angeles:20180309T200000
DTEND;TZID=America/Los_Angeles:20180309T230000
CATEGORIES:"bay area", berkeley
LOCATION:The UC Theatre, Berkeley
WEBSITE:https://www.ticketfly.com/purchase/event/1609345?_ga=2.4176867
 8.531033745.1516395813-1122226735.1516395813
URL:https://www.ticketfly.com/purchase/event/1609345?_ga=2.41768678.53
 1033745.1516395813-1122226735.1516395813
CONTACT:
ORGANIZER:The UC Theatre
ATTACH;FMTTYPE="image/jpeg":http://storage.ning.com/topology/rest/1.0/
 file/get/2248004000?profile=original
ATTENDEE;ROLE=REQ-PARTICIPANT;PARTSTAT=ACCEPTED;RSVP=TRUE;CN="Elisa Bj
 eldanes":https://trueskool.com/profile/ElisaBjeldanes
ATTENDEE;ROLE=REQ-PARTICIPANT;PARTSTAT=ACCEPTED;RSVP=TRUE;CN="Editor's
  Pick":https://trueskool.com/profile/RentheVinylArchaeologist
END:VEVENT
END:VCALENDAR
