BEGIN:VCALENDAR
PRODID:NingEventWidget-v1
VERSION:2.0
METHOD:PUBLISH
BEGIN:VTIMEZONE
TZID:America/Los_Angeles
X-LIC-LOCATION:America/Los_Angeles
BEGIN:DAYLIGHT
TZOFFSETFROM:-0800
TZOFFSETTO:-0700
TZNAME:PDT
DTSTART:19700308T020000
RRULE:FREQ=YEARLY;BYMONTH=3;BYDAY=2SU
END:DAYLIGHT
BEGIN:STANDARD
TZOFFSETFROM:-0700
TZOFFSETTO:-0800
TZNAME:PST
DTSTART:19701101T020000
RRULE:FREQ=YEARLY;BYMONTH=11;BYDAY=1SU
END:STANDARD
END:VTIMEZONE
BEGIN:VEVENT
UID:1464587:Event:390277
DTSTAMP:20260421T020300Z
SUMMARY:Pigeon John (NYC)
DESCRIPTION:\n\nPigeon John & Tanya Morgan Plus Ant Matos, Chano Migs,
  Marbar\n\n\n\nThe Studio at Webster Hall New York, NY\n\nSat, 07/19/1
 4 07:30 PM\n\nFind Tickets »on TicketWeb\n\n\n\n\n\n\nFor more infor
 mation visit https://trueskool.com/events/pigeon-john-nyc
DTSTART;TZID=America/Los_Angeles:20140719T193000
DTEND;TZID=America/Los_Angeles:20140719T230000
CATEGORIES:nyc
LOCATION:The Studio at Webster Hall, New York, NY
WEBSITE:http://www.ticketmaster.com/partner_redirect?v=fd4Vq0ySVw3rtM5
 CKRU_fOcWK9vCQZTA4xbKiyOj_CntTut7w-2FzbA6SORnf2oGFOO2yu7FaNT5plSNNa7XC
 czan8voUjUU4kj9OTUMYlLgAdzysDRlGyiCdWlS5cbdjwOildd6BASkkN7bWVM28Dwb3Jn
 Zb751bydT4lgf0WjDJ55w15rpe0dpzY-8I3lAflq-GSm3IX-3OgXcUQ&eventid=29004C
 CC396037C7&artistid=1129632&artistname=Pigeon%20John%20&%20Tanya%20Mor
 gan%20Plus%20Ant%20Matos,%20Chano%20Migs,%20Marbar&cid=aff_BUYAT_85386
 &CAMEFROM=CFC_BUYAT_85386&crosssite=TM_US:1129632:1237
URL:http://www.ticketmaster.com/partner_redirect?v=fd4Vq0ySVw3rtM5CKRU
 _fOcWK9vCQZTA4xbKiyOj_CntTut7w-2FzbA6SORnf2oGFOO2yu7FaNT5plSNNa7XCczan
 8voUjUU4kj9OTUMYlLgAdzysDRlGyiCdWlS5cbdjwOildd6BASkkN7bWVM28Dwb3JnZb75
 1bydT4lgf0WjDJ55w15rpe0dpzY-8I3lAflq-GSm3IX-3OgXcUQ&eventid=29004CCC39
 6037C7&artistid=1129632&artistname=Pigeon%20John%20&%20Tanya%20Morgan%
 20Plus%20Ant%20Matos,%20Chano%20Migs,%20Marbar&cid=aff_BUYAT_85386&CAM
 EFROM=CFC_BUYAT_85386&crosssite=TM_US:1129632:1237
CONTACT:
ORGANIZER:Editor's Pick
ATTACH;FMTTYPE="image/jpeg":http://storage.ning.com/topology/rest/1.0/
 file/get/2247963780?profile=original
ATTENDEE;ROLE=REQ-PARTICIPANT;PARTSTAT=ACCEPTED;RSVP=TRUE;CN="Ren the 
 Vinyl Archaeologist":https://trueskool.com/profile/xh51jvilojur
END:VEVENT
END:VCALENDAR
