BEGIN:VCALENDAR
PRODID:NingEventWidget-v1
VERSION:2.0
METHOD:PUBLISH
BEGIN:VTIMEZONE
TZID:America/Los_Angeles
X-LIC-LOCATION:America/Los_Angeles
BEGIN:DAYLIGHT
TZOFFSETFROM:-0800
TZOFFSETTO:-0700
TZNAME:PDT
DTSTART:19700308T020000
RRULE:FREQ=YEARLY;BYMONTH=3;BYDAY=2SU
END:DAYLIGHT
BEGIN:STANDARD
TZOFFSETFROM:-0700
TZOFFSETTO:-0800
TZNAME:PST
DTSTART:19701101T020000
RRULE:FREQ=YEARLY;BYMONTH=11;BYDAY=1SU
END:STANDARD
END:VTIMEZONE
BEGIN:VEVENT
UID:1464587:Event:31940
DTSTAMP:20260420T163243Z
SUMMARY:Phil Weeks' Cali Birthday Bash
DESCRIPTION:Minority Music Presents:\nPhil Weeks' Cali Birthday Bash\n
 Fries & Bridges\nPhil Weeks & Hector Moralez\nLoopity Goofs\nOscar Mir
 anda\n\n\nPrice $10 before 11pm\nTime 9pm-3am\nMusic House\n\nFor more
  information visit https://trueskool.com/events/phil-weeks-cali-birthd
 ay-bash
DTSTART;TZID=America/Los_Angeles:20090515T210000
DTEND;TZID=America/Los_Angeles:20090516T030000
CATEGORIES:house
LOCATION:Club Six, San Francisco
WEBSITE:http://www.clubsix1.com
URL:http://www.clubsix1.com
CONTACT:415-531-6593
ORGANIZER:Angel
ATTACH;FMTTYPE="image/jpeg":http://storage.ning.com/topology/rest/1.0/
 file/get/2247857028?profile=original
ATTENDEE;ROLE=REQ-PARTICIPANT;PARTSTAT=ACCEPTED;RSVP=TRUE;CN=Cecily:ht
 tps://trueskool.com/profile/Cecily
END:VEVENT
END:VCALENDAR
