BEGIN:VCALENDAR
PRODID:NingEventWidget-v1
VERSION:2.0
METHOD:PUBLISH
BEGIN:VTIMEZONE
TZID:America/Los_Angeles
X-LIC-LOCATION:America/Los_Angeles
BEGIN:DAYLIGHT
TZOFFSETFROM:-0800
TZOFFSETTO:-0700
TZNAME:PDT
DTSTART:19700308T020000
RRULE:FREQ=YEARLY;BYMONTH=3;BYDAY=2SU
END:DAYLIGHT
BEGIN:STANDARD
TZOFFSETFROM:-0700
TZOFFSETTO:-0800
TZNAME:PST
DTSTART:19701101T020000
RRULE:FREQ=YEARLY;BYMONTH=11;BYDAY=1SU
END:STANDARD
END:VTIMEZONE
BEGIN:VEVENT
UID:1464587:Event:367579
DTSTAMP:20260421T085727Z
SUMMARY:Pharoahe Monch w/ DJ Revolution plus 9th Wonder x Rapsody
DESCRIPTION:\n\nTHURSDAY, June 26, 2014 PTSD Tour starring PHAROAHE MO
 NCH backed by DJ Revolution  with special guests 9th Wonder & Rapsody 
  DJ Support: Ren the Vinyl Archaeologist (True Skool)\n\nMighty, 119 
 Utah St., San Francisco CA 94103\n21+.  10:00pm\n>> BUY TICKETS\n\n\n
 \nFor more information visit https://trueskool.com/events/pharoahe-mon
 ch-w-dj-revolution-plus-9th-wonder-x-rapsody
DTSTART;TZID=America/Los_Angeles:20140626T220000
DTEND;TZID=America/Los_Angeles:20140627T020000
CATEGORIES:"bay area", "san francisco"
LOCATION:Mighty, San Francisco
WEBSITE:http://www.ticketfly.com/event/588915-pharoahe-monch-wsg-9th-w
 onder-san-francisco/
URL:http://www.ticketfly.com/event/588915-pharoahe-monch-wsg-9th-wonde
 r-san-francisco/
CONTACT:
ORGANIZER:Tastemaker Live
ATTACH;FMTTYPE="image/jpeg":http://storage.ning.com/topology/rest/1.0/
 file/get/2057415333?profile=original
ATTENDEE;ROLE=REQ-PARTICIPANT;PARTSTAT=ACCEPTED;RSVP=TRUE;CN="Staff Pi
 ck":https://trueskool.com/profile/Ren
ATTENDEE;ROLE=REQ-PARTICIPANT;PARTSTAT=ACCEPTED;RSVP=TRUE;CN="James Mi
 chael Federighi":https://trueskool.com/profile/JamesMichaelFederighi
END:VEVENT
END:VCALENDAR
