BEGIN:VCALENDAR
PRODID:NingEventWidget-v1
VERSION:2.0
METHOD:PUBLISH
BEGIN:VTIMEZONE
TZID:America/Los_Angeles
X-LIC-LOCATION:America/Los_Angeles
BEGIN:DAYLIGHT
TZOFFSETFROM:-0800
TZOFFSETTO:-0700
TZNAME:PDT
DTSTART:19700308T020000
RRULE:FREQ=YEARLY;BYMONTH=3;BYDAY=2SU
END:DAYLIGHT
BEGIN:STANDARD
TZOFFSETFROM:-0700
TZOFFSETTO:-0800
TZNAME:PST
DTSTART:19701101T020000
RRULE:FREQ=YEARLY;BYMONTH=11;BYDAY=1SU
END:STANDARD
END:VTIMEZONE
BEGIN:VEVENT
UID:1464587:Event:261171
DTSTAMP:20260420T194320Z
SUMMARY:Pharoah Sanders Quartet
DESCRIPTION:Pharoah Sanders Quartet\nJan 03-Jan 5, 2014\n\nFriday, Jan
 uary 3 8pm $32 & 10pm $26\nSaturday, January 4 7:30pm $35 & 9:30pm $29
 \nSunday, January 5 7pm $32\n\n\nFor more information visit https://tr
 ueskool.com/events/pharoah-sanders-quartet
DTSTART;TZID=America/Los_Angeles:20140103T200000
DTEND;TZID=America/Los_Angeles:20140105T213000
CATEGORIES:oakland
LOCATION:Yoshi's, Oakland
WEBSITE:http://yoshis.inticketing.com/events/350086/Fri%208pm%20-%20PH
 AROAH%20SANDERS
URL:http://yoshis.inticketing.com/events/350086/Fri%208pm%20-%20PHAROA
 H%20SANDERS
CONTACT:
ORGANIZER;CN="Editor's Pick":https://trueskool.com/profile/RentheVinyl
 Archaeologist
ATTACH;FMTTYPE="image/jpeg":http://storage.ning.com/topology/rest/1.0/
 file/get/2247951383?profile=original
ATTENDEE;ROLE=REQ-PARTICIPANT;PARTSTAT=ACCEPTED;RSVP=TRUE;CN="Editor's
  Pick":https://trueskool.com/profile/RentheVinylArchaeologist
END:VEVENT
END:VCALENDAR
