BEGIN:VCALENDAR
PRODID:NingEventWidget-v1
VERSION:2.0
METHOD:PUBLISH
BEGIN:VTIMEZONE
TZID:America/Los_Angeles
X-LIC-LOCATION:America/Los_Angeles
BEGIN:DAYLIGHT
TZOFFSETFROM:-0800
TZOFFSETTO:-0700
TZNAME:PDT
DTSTART:19700308T020000
RRULE:FREQ=YEARLY;BYMONTH=3;BYDAY=2SU
END:DAYLIGHT
BEGIN:STANDARD
TZOFFSETFROM:-0700
TZOFFSETTO:-0800
TZNAME:PST
DTSTART:19701101T020000
RRULE:FREQ=YEARLY;BYMONTH=11;BYDAY=1SU
END:STANDARD
END:VTIMEZONE
BEGIN:VEVENT
UID:1464587:Event:648025
DTSTAMP:20260421T210058Z
SUMMARY:Pete Rock & CL Smooth (WIN TICKETS)
DESCRIPTION:ENTER TO WIN A PAIR OF TICKETS. WINNER WILL BE DRAWN RANDO
 MLY AND ANNOUNCED 2 DAYS PRIOR TO EVENT.   \n Friday, Jun 17, 2016 
 Sean Healy Presents & Tastemaker Live Present Pete Rock & CL Smooth\nM
 ighty, San Francisco, CA  9:00 PM PDT (8:00 PM Doors) 21 years and ove
 r >> BUY TICKETS\n\n\n\n \n\nFor more information visit https://trues
 kool.com/events/pete-rock-cl-smooth
DTSTART;TZID=America/Los_Angeles:20160617T210000
DTEND;TZID=America/Los_Angeles:20160618T020000
CATEGORIES:"bay area", "san francisco"
LOCATION:Mighty, SF
WEBSITE:http://www.ticketweb.com/t3/sale/SaleEventDetail?eventId=66981
 35&pl=shealy&dispatch=loadSelectionData
URL:http://www.ticketweb.com/t3/sale/SaleEventDetail?eventId=6698135&p
 l=shealy&dispatch=loadSelectionData
CONTACT:
ORGANIZER:Sean Healy Presents & Tastemaker Live
ATTACH;FMTTYPE="image/jpeg":http://storage.ning.com/topology/rest/1.0/
 file/get/2247987916?profile=original
ATTENDEE;ROLE=REQ-PARTICIPANT;PARTSTAT=ACCEPTED;RSVP=TRUE;CN="Akua Mic
 helle":https://trueskool.com/profile/AkuaMichelle
ATTENDEE;ROLE=REQ-PARTICIPANT;PARTSTAT=ACCEPTED;RSVP=TRUE;CN="Editor's
  Pick":https://trueskool.com/profile/RentheVinylArchaeologist
END:VEVENT
END:VCALENDAR
