BEGIN:VCALENDAR
PRODID:NingEventWidget-v1
VERSION:2.0
METHOD:PUBLISH
BEGIN:VTIMEZONE
TZID:America/Los_Angeles
X-LIC-LOCATION:America/Los_Angeles
BEGIN:DAYLIGHT
TZOFFSETFROM:-0800
TZOFFSETTO:-0700
TZNAME:PDT
DTSTART:19700308T020000
RRULE:FREQ=YEARLY;BYMONTH=3;BYDAY=2SU
END:DAYLIGHT
BEGIN:STANDARD
TZOFFSETFROM:-0700
TZOFFSETTO:-0800
TZNAME:PST
DTSTART:19701101T020000
RRULE:FREQ=YEARLY;BYMONTH=11;BYDAY=1SU
END:STANDARD
END:VTIMEZONE
BEGIN:VEVENT
UID:1464587:Event:63045
DTSTAMP:20260420T230243Z
SUMMARY:Personal Touch Entertainment  10 Year Anniversary Celebration
DESCRIPTION:CLICK HERE TO WIN A PAIR OF TICKETS:\nhttp://www.trueskool
 .com/group/wintickets\n\n\nSATURDAY, AUGUST 14\nPersonal Touch Enterta
 inment & True\ncordially invite you to attend an event of epic proport
 ions\nPersonal Touch Entertainment\n10 Year Anniversary Celebration\nT
 he Bay Area's top & most consistent urban entertainment company celebr
 ates 10 great years!\n\nFEATURING BAY AREA HEAVYWEIGHTS...\nMIND MOTIO
 N & DJ IVAN (Pirate DJs)\nAPOLLO (Triple Threat)\nFUZE (Digital Underg
 round)\nCHUY GOMEZ\nBIG VON\nTD CAMP (Hella Records)\nSUPREME & POS RE
 D (Original DJs)\nSAKE 1 (Local 1200)\n\n10 OF THE BAY AREA'S HIP-HOP 
 PIONEERS & BEST DJS IN THE MIX UNDER ONE ROOF LIKE NEVER BEFORE TAKING
  YOU ON AN UNFORGETTABLE MUSICAL JOURNEY!\n\nSPECIAL GUEST HOST:\nTHE 
 BAY AREA'S NEW R&B SENSATION...\nR.O.D\n\nHOSTED BY DESHAWN MITCHELL, 
 BMB EVENTS, TREVEL A., TASTEMAKER LIVE & TRUE SKOOL\nIN CELEBRATION OF
  THIS GREAT NIGHT & TO GIVE BACK TO OUR MEMBERS...\n\nTHE FIRST 100 GU
 ESTS ATTENDING WILL RECEIVE...\nTHE CRAZY HOT PERSONAL TOUCH T-SHIRT!\
 nMEN'S & LADIES T-SHIRTS WILL BE AVAILABLE\nSPONSORED & DESIGNED BY TR
 UE CLOTHING\nPLUS A COMPLIMENTARY 10 YEAR ANNIVERSARY MIX CD!\nMIXED B
 Y DJ MIND MOTION (PIRATE DJS)\n\n@ Mighty, 119 Utah St., SF\n10PM - GO
 ING AFTERHOURS - 21 & OVER\nFor Bottle Service E-mail: info@personalto
 uchsf.com or Call/Text: (415) 341-7314\nTHIS EVENT WILL SELL OUT! SPAC
 E IS LIMITED!\nYOU MUST PURCHASE YOUR TICKETS IN ADVANCE TO SECURE YOU
 R ADMISSION!\nBUY TICKETS ONLINE AT GROOVETICKETS.COM\nTICKETS BY PHON
 E 1-877-71-GROOV (47668)\nPERSONAL TOUCH WOULD LIKE TO THANK ALL OF OU
 R CURRENT & PAST MEMBERS\nFOR YOUR LOYAL SUPPORT OVER THE YEARS! WE CO
 ULD NOT HAVE DONE IT WITHOUT YOU!\nJOIN US AS WE CELEBRATE 10 YEARS OF
  BRINGING YOU HOT PARTIES, CELEBRITY EVENTS, FLY VENUES, SEXY CROWDS, 
 LIVE PERFORMANCES & GREAT MEMORIES!\n\nFor more information visit http
 s://trueskool.com/events/personal-touch-entertainment
DTSTART;TZID=America/Los_Angeles:20100814T220000
DTEND;TZID=America/Los_Angeles:20100815T150000
CATEGORIES:hip, hop
LOCATION:Mighty, San Francisco, CA
WEBSITE:http://www.groovetickets.com
URL:http://www.groovetickets.com
CONTACT:
ORGANIZER:Personal Touch Ent. & True
ATTACH;FMTTYPE="image/jpeg":http://storage.ning.com/topology/rest/1.0/
 file/get/2247882538?profile=original
ATTENDEE;ROLE=REQ-PARTICIPANT;PARTSTAT=ACCEPTED;RSVP=TRUE;CN="Ren the 
 Vinyl Archaeologist":https://trueskool.com/profile/xh51jvilojur
END:VEVENT
END:VCALENDAR
