BEGIN:VCALENDAR
PRODID:NingEventWidget-v1
VERSION:2.0
METHOD:PUBLISH
BEGIN:VTIMEZONE
TZID:America/Los_Angeles
X-LIC-LOCATION:America/Los_Angeles
BEGIN:DAYLIGHT
TZOFFSETFROM:-0800
TZOFFSETTO:-0700
TZNAME:PDT
DTSTART:19700308T020000
RRULE:FREQ=YEARLY;BYMONTH=3;BYDAY=2SU
END:DAYLIGHT
BEGIN:STANDARD
TZOFFSETFROM:-0700
TZOFFSETTO:-0800
TZNAME:PST
DTSTART:19701101T020000
RRULE:FREQ=YEARLY;BYMONTH=11;BYDAY=1SU
END:STANDARD
END:VTIMEZONE
BEGIN:VEVENT
UID:1464587:Event:679532
DTSTAMP:20260421T084347Z
SUMMARY:Perry Farrell’s Kind Heaven Orchestra with Balkan Bump, Jerr
 y’s Kosher Deli for THE INAUGURAL BILL GRAHAM FESTIVAL OF LIGHTS/ Me
 norah Day 12/2/2018
DESCRIPTION:Perry Farrell’s Kind Heaven Orchestra with Balkan Bump, 
 Jerry’s Kosher Deli 12/2 730PM $75 - PERRY FARRELL’S KIND HEAVEN 
 ORCHESTRA TO DEBUT NEW MUSIC IN SPECIAL PERFORMANCE AT THE FILLMORE FO
 R THE INAUGURAL BILL GRAHAM FESTIVAL OF LIGHTS - Musical Super-Group
  to Headline Gala Celebrating (with proceeds going to ) Bill Graham 
 Menorah Day in San Francisco – 12/2/18.  Farrell has assembled a 
 dream team of musicians and performers to deliver an immersive experie
 nce of sound and vision. Says Farrell, “Bill Graham set the highest 
 bar for the art of public assemblage at The Fillmore, and we pay tribu
 te to his legacy and to San Francisco by spreading the message of ligh
 t and peace this holiday season.”     VIP & After Show contact: 
  Billy Cohen < billy@labyrynth.com>\n\n\nFor more information visit
  https://trueskool.com/events/perry-farrell-s-kind-heaven-orchestra-wi
 th-balkan-bump-jerry-s
DTSTART;TZID=America/Los_Angeles:20181202T193000
DTEND;TZID=America/Los_Angeles:20181203T010000
CATEGORIES:san, francisco
LOCATION:The Fillmore, San Francisco, CA
WEBSITE:http://thefillmore.com/event/perry-farrells-kind-heaven-orches
 tra/
URL:http://thefillmore.com/event/perry-farrells-kind-heaven-orchestra/
CONTACT:
ORGANIZER;CN="Phillip Ranelli":https://trueskool.com/profile/PhillipRa
 nelli
ATTACH;FMTTYPE="image/jpeg":http://storage.ning.com/topology/rest/1.0/
 file/get/2248016735?profile=original
ATTENDEE;ROLE=REQ-PARTICIPANT;PARTSTAT=ACCEPTED;RSVP=TRUE;CN="Phillip 
 Ranelli":https://trueskool.com/profile/PhillipRanelli
END:VEVENT
END:VCALENDAR
