BEGIN:VCALENDAR
PRODID:NingEventWidget-v1
VERSION:2.0
METHOD:PUBLISH
BEGIN:VTIMEZONE
TZID:America/Los_Angeles
X-LIC-LOCATION:America/Los_Angeles
BEGIN:DAYLIGHT
TZOFFSETFROM:-0800
TZOFFSETTO:-0700
TZNAME:PDT
DTSTART:19700308T020000
RRULE:FREQ=YEARLY;BYMONTH=3;BYDAY=2SU
END:DAYLIGHT
BEGIN:STANDARD
TZOFFSETFROM:-0700
TZOFFSETTO:-0800
TZNAME:PST
DTSTART:19701101T020000
RRULE:FREQ=YEARLY;BYMONTH=11;BYDAY=1SU
END:STANDARD
END:VTIMEZONE
BEGIN:VEVENT
UID:1464587:Event:38971
DTSTAMP:20260421T033222Z
SUMMARY:PERFECT BEAT @ Mercury Lounge f/ HERB DIGS **FREE ALL NIGHT**
DESCRIPTION:\n\nFor more information visit https://trueskool.com/event
 s/perfect-beat-mercury-lounge-f
DTSTART;TZID=America/Los_Angeles:20090905T220000
DTEND;TZID=America/Los_Angeles:20090906T020000
CATEGORIES:outernational, rhythms, superfuture, solsonics, timeless, v
 ibrations, soul, latin, house, afrobeat, reggae, hip, hop, and, the, "
 unexpected!!!!"
LOCATION:Mercury Lounge, San Francisco, CA
WEBSITE:http://www.myspace.com/goldenlaszlo
URL:http://www.myspace.com/goldenlaszlo
CONTACT:
ORGANIZER;CN="Fiyah Lilly":https://trueskool.com/profile/FiyahLilly
ATTACH;FMTTYPE="image/jpeg":http://storage.ning.com/topology/rest/1.0/
 file/get/2247864389?profile=original
ATTENDEE;ROLE=REQ-PARTICIPANT;PARTSTAT=ACCEPTED;RSVP=TRUE;CN="Fiyah Li
 lly":https://trueskool.com/profile/FiyahLilly
END:VEVENT
END:VCALENDAR
