BEGIN:VCALENDAR
PRODID:NingEventWidget-v1
VERSION:2.0
METHOD:PUBLISH
BEGIN:VTIMEZONE
TZID:America/Los_Angeles
X-LIC-LOCATION:America/Los_Angeles
BEGIN:DAYLIGHT
TZOFFSETFROM:-0800
TZOFFSETTO:-0700
TZNAME:PDT
DTSTART:19700308T020000
RRULE:FREQ=YEARLY;BYMONTH=3;BYDAY=2SU
END:DAYLIGHT
BEGIN:STANDARD
TZOFFSETFROM:-0700
TZOFFSETTO:-0800
TZNAME:PST
DTSTART:19701101T020000
RRULE:FREQ=YEARLY;BYMONTH=11;BYDAY=1SU
END:STANDARD
END:VTIMEZONE
BEGIN:VEVENT
UID:1464587:Event:298501
DTSTAMP:20260421T034647Z
SUMMARY:Perfect 10 - Pink Mammoth's 10 Year Anniversary
DESCRIPTION: Saturday, February 1st \nPerfect 10 - Pink Mammoth's 10 
 yr Anniversary Pink Mammoth celebrates one entire decade of great time
 s, vibes, people, and events for its 10 year anniversary celebration. 
 Come early for the open bar from 9pm-10:30pm and dance the night away 
 to Pink Mammoth resident Djs and special guests. There will be beautif
 ul décor, keepsakes, delicious food, and silent disco outside!\n\n@ M
 ighty 119 Utah St., SF\n9pm-3am | 21+\nRSVP Here: https://www.facebook
 .com/events/698274496872463/\n\nFor more information visit https://tru
 eskool.com/events/perfect-10-pink-mammoth-s-10-year-anniversary
DTSTART;TZID=America/Los_Angeles:20140201T210000
DTEND;TZID=America/Los_Angeles:20140202T030000
CATEGORIES:"bay area", "san francisco"
LOCATION:Mighty, San Francisco
WEBSITE:https://www.facebook.com/events/698274496872463/
URL:https://www.facebook.com/events/698274496872463/
CONTACT:
ORGANIZER:Mighty
ATTACH;FMTTYPE="image/jpeg":http://storage.ning.com/topology/rest/1.0/
 file/get/2247958324?profile=original
ATTENDEE;ROLE=REQ-PARTICIPANT;PARTSTAT=ACCEPTED;RSVP=TRUE;CN="Editor's
  Pick":https://trueskool.com/profile/RentheVinylArchaeologist
END:VEVENT
END:VCALENDAR
