BEGIN:VCALENDAR
PRODID:NingEventWidget-v1
VERSION:2.0
METHOD:PUBLISH
BEGIN:VTIMEZONE
TZID:America/Los_Angeles
X-LIC-LOCATION:America/Los_Angeles
BEGIN:DAYLIGHT
TZOFFSETFROM:-0800
TZOFFSETTO:-0700
TZNAME:PDT
DTSTART:19700308T020000
RRULE:FREQ=YEARLY;BYMONTH=3;BYDAY=2SU
END:DAYLIGHT
BEGIN:STANDARD
TZOFFSETFROM:-0700
TZOFFSETTO:-0800
TZNAME:PST
DTSTART:19701101T020000
RRULE:FREQ=YEARLY;BYMONTH=11;BYDAY=1SU
END:STANDARD
END:VTIMEZONE
BEGIN:VEVENT
UID:1464587:Event:39219
DTSTAMP:20260422T120959Z
SUMMARY:People Under The Stairs
DESCRIPTION:People Under The Stairs\n\nSlim's\n333 11th St\nSan Franci
 sco, CA\n94103-4313, US\n(415) 255-0333\n9:00 PM ($16)\n\n\n\nFor more
  information visit https://trueskool.com/events/people-under-the-stair
 s
DTSTART;TZID=America/Los_Angeles:20091007T210000
DTEND;TZID=America/Los_Angeles:20091008T230000
CATEGORIES:hip, hop
LOCATION:Slim's, San Francisco, CA
WEBSITE:http://www.slims-sf.com/slims-bin/showcal?date=2009-10-07
URL:http://www.slims-sf.com/slims-bin/showcal?date=2009-10-07
CONTACT:
ORGANIZER:Slim's
ATTACH;FMTTYPE="image/jpeg":http://storage.ning.com/topology/rest/1.0/
 file/get/2247848632?profile=original
ATTENDEE;ROLE=REQ-PARTICIPANT;PARTSTAT=ACCEPTED;RSVP=TRUE;CN="Editor's
  Pick":https://trueskool.com/profile/RentheVinylArchaeologist
END:VEVENT
END:VCALENDAR
