BEGIN:VCALENDAR
PRODID:NingEventWidget-v1
VERSION:2.0
METHOD:PUBLISH
BEGIN:VTIMEZONE
TZID:America/Los_Angeles
X-LIC-LOCATION:America/Los_Angeles
BEGIN:DAYLIGHT
TZOFFSETFROM:-0800
TZOFFSETTO:-0700
TZNAME:PDT
DTSTART:19700308T020000
RRULE:FREQ=YEARLY;BYMONTH=3;BYDAY=2SU
END:DAYLIGHT
BEGIN:STANDARD
TZOFFSETFROM:-0700
TZOFFSETTO:-0800
TZNAME:PST
DTSTART:19701101T020000
RRULE:FREQ=YEARLY;BYMONTH=11;BYDAY=1SU
END:STANDARD
END:VTIMEZONE
BEGIN:VEVENT
UID:1464587:Event:69479
DTSTAMP:20260421T064640Z
SUMMARY:People Under the Stairs at Slim's on Fri. Dec. 3 - all ages!
DESCRIPTION:The highly acclaimed duo, People Under the Stairs, are bac
 k with their 7th album, \"Carried Away.\" Fans of PUTS records know th
 at unlike other hip hop/rap artists, there are no outside producers or
  of-the-moment guest emcees. People Under the Stairs are a completely 
 truly independent hip hop duo. Beats, rhymes, scratching and choruses 
 are all done by PUTS members Thes One and Double K themselves.\n\nNow 
 over ten years and seven albums deep, PUTS have built a genre of their
  own within hip hip. Upbeat, crazy, balls-to-the-wall and ridiculous, 
 \"Carried Away\" follows in true PUTS tradition. One part(y) Beastie B
 oys, one part Public Enemy and one part Radiohead, the new album was p
 roduced old school classic style in the same fashion as Rick Rubin (De
 f Jam era) or Dust Brothers (Grand Royal, \"Paul's Boutique.\") Record
 ed entirely on reel to reel with tons of rock samples, distorted vocal
 s, lots of cussing, drum machines, delays, yelling... the works. Wrap 
 that all up with nods to A Tribe Called Quest (Double K does one hell 
 of a Phife Dog), Beastie Boys, beer and Luther Vandross and you're gua
 ranteed to carried away!\n\nFor more information visit https://truesko
 ol.com/events/people-under-the-stairs-at
DTSTART;TZID=America/Los_Angeles:20101203T210000
DTEND;TZID=America/Los_Angeles:20101203T233000
CATEGORIES:san, francisco, ca
LOCATION:Slim's, San Francisco, CA
WEBSITE:http://www.slims-sf.com
URL:http://www.slims-sf.com
CONTACT:
ORGANIZER;CN=Tracey:https://trueskool.com/profile/Tracey
ATTACH;FMTTYPE="image/jpeg":http://storage.ning.com/topology/rest/1.0/
 file/get/2247885770?profile=original
ATTENDEE;ROLE=REQ-PARTICIPANT;PARTSTAT=ACCEPTED;RSVP=TRUE;CN=Tracey:ht
 tps://trueskool.com/profile/Tracey
END:VEVENT
END:VCALENDAR
