BEGIN:VCALENDAR
PRODID:NingEventWidget-v1
VERSION:2.0
METHOD:PUBLISH
BEGIN:VTIMEZONE
TZID:America/Los_Angeles
X-LIC-LOCATION:America/Los_Angeles
BEGIN:DAYLIGHT
TZOFFSETFROM:-0800
TZOFFSETTO:-0700
TZNAME:PDT
DTSTART:19700308T020000
RRULE:FREQ=YEARLY;BYMONTH=3;BYDAY=2SU
END:DAYLIGHT
BEGIN:STANDARD
TZOFFSETFROM:-0700
TZOFFSETTO:-0800
TZNAME:PST
DTSTART:19701101T020000
RRULE:FREQ=YEARLY;BYMONTH=11;BYDAY=1SU
END:STANDARD
END:VTIMEZONE
BEGIN:VEVENT
UID:1464587:Event:42233
DTSTAMP:20260421T142648Z
SUMMARY:PeliKULa! Pin@y Film Screening
DESCRIPTION:PeliKULa! Pin@y Film Series\n3-8pm, Sun Nov 1\nAdmission: 
 $7 ($10 includes $3 donation to Ondoy Relief)\nTickets: https://www.br
 ownpapertickets.com/event/85915\n\nThe second screening in Kularts Pel
 iKULa! Pin@y Film Series. Honoring All Soul's Day by exploring the dar
 k corners of the human psyche...\n\nShorts Program\n3-5PM\n\nNo. 4\nDi
 rector: Benito Bautista\nRetired Japanese-American Couple, Kazuo and M
 itsuko, are held hostage for a day when a manic stranger, Kilo, decide
 s to invade them in their newly-purchased airstream. Starring Philippi
 ne award-winning actor, Raymond Bagatsing.\n\nKundiman\nDirector: Noel
  Shaw\nKundiman probes the psyche of Tess, a nurse whose life is fragm
 ented by repressed memories of brutality and torture. Spiritual redemp
 tion collides with spiritual disintegration in this short film mystery
 . Featuring Bindlestiff Studio's own Alex Torres!\n\nLast Full Show\nD
 irector: Mark V. Reyes\nTeenage student, Crispin, gets his kicks after
  school by cruising the dark underbelly of the Manila gay scene - an o
 ld movie theater frequented by other cruisers. The joys, sorrows, and 
 dangers of forbidden love are explored in this poignantly-crafted shor
 t film.\n\nGod Only Knows\nDirector: Mark V. Reyes\nIn a decaying Phil
 ippines slum, an innocent journey to the market turns into devastation
  for single mother Maria and her 10-year-old son Santiago.\n\nWith Vid
 eo Introduction by Noel Shaw\nQ&A Panel with Mark V. Reyes and Benito 
 Bautista.\nModerated by R.J. Lozada\n\nFeature Presentation\n6-8PM\n\n
 Ang Pamana: The Inheritance\nDirector: Romeo Candido\nCanadian balikba
 yan Johnny inherits a family farm in rural Bulacan where winged, half-
 bodied vampires, blood-sucking monsters disguised as humans, and tobac
 co-smoking giants frolic to scare the living daylights out of the farm
 's human inhabitants. Featuring Phoemela Baranda, entertainment anchor
  of ABS-CBN's TV Patrol.\n\nWith Video Introduction by Romeo Candido\n
 \nFor more information visit https://trueskool.com/events/pelikula-pin
 y-film-screening
DTSTART;TZID=America/Los_Angeles:20091101T150000
DTEND;TZID=America/Los_Angeles:20091101T200000
CATEGORIES:film, community, pinoy, kularts, bayanihan, center, arts
LOCATION:Bayanihan Community Center, San Francisco, CA
WEBSITE:http://kularts.org/calendar.php
URL:http://kularts.org/calendar.php
CONTACT:415-239-0249
ORGANIZER;CN=Kularts:https://trueskool.com/profile/Kularts
ATTACH;FMTTYPE="image/jpeg":
ATTENDEE;ROLE=REQ-PARTICIPANT;PARTSTAT=ACCEPTED;RSVP=TRUE;CN=Kularts:h
 ttps://trueskool.com/profile/Kularts
END:VEVENT
END:VCALENDAR
