BEGIN:VCALENDAR
PRODID:NingEventWidget-v1
VERSION:2.0
METHOD:PUBLISH
BEGIN:VTIMEZONE
TZID:America/Los_Angeles
X-LIC-LOCATION:America/Los_Angeles
BEGIN:DAYLIGHT
TZOFFSETFROM:-0800
TZOFFSETTO:-0700
TZNAME:PDT
DTSTART:19700308T020000
RRULE:FREQ=YEARLY;BYMONTH=3;BYDAY=2SU
END:DAYLIGHT
BEGIN:STANDARD
TZOFFSETFROM:-0700
TZOFFSETTO:-0800
TZNAME:PST
DTSTART:19701101T020000
RRULE:FREQ=YEARLY;BYMONTH=11;BYDAY=1SU
END:STANDARD
END:VTIMEZONE
BEGIN:VEVENT
UID:1464587:Event:41182
DTSTAMP:20260422T092110Z
SUMMARY:Pecha Kucha Night Oakland- Graffiti for Social Change
DESCRIPTION:Hard Knock Radio, Eastside Arts Alliance, Living Word Fest
 ival & Estria Invitational Graffiti Battle Present:\nPecha Kucha Night
  Oakland\nDon't Sweat the Technique: Graffiti for Social Change\nFri, 
 Oct 9, 7PM\n\nEastside Cultural Center\n2277 International Blvd., Oakl
 and, CA\nwww.eastsideartsalliance.com\n$5 at the door\n\nHost: Weyland
  Southon\n\nPresenters:\nJim Prigoff - Author of Spraycan Art\nBrett C
 ook Dizney\nMarc Bamuthi Joseph/Bethanie Hines of Youth Speaks\nSteve 
 Grody - Author of Graffiti LA & Graffiti New York\nSpie TDK\nErin Yosh
 ioka of Trust Your Struggle\nNancy Hernandez\nEstria Miyashiro\n\nFor 
 more information visit https://trueskool.com/events/pecha-kucha-night-
 oakland
DTSTART;TZID=America/Los_Angeles:20091009T190000
DTEND;TZID=America/Los_Angeles:20091009T213000
CATEGORIES:hip, hop, graffiti
LOCATION:Eastside Cultural Center, Oakland, CA
WEBSITE:http://eastsideartsalliance.com/
URL:http://eastsideartsalliance.com/
CONTACT:510.895.5700
ORGANIZER;CN=Bam:https://trueskool.com/profile/Bam
ATTACH;FMTTYPE="image/jpeg":http://storage.ning.com/topology/rest/1.0/
 file/get/2247865778?profile=original
ATTENDEE;ROLE=REQ-PARTICIPANT;PARTSTAT=ACCEPTED;RSVP=TRUE;CN=Bam:https
 ://trueskool.com/profile/Bam
END:VEVENT
END:VCALENDAR
