BEGIN:VCALENDAR
PRODID:NingEventWidget-v1
VERSION:2.0
METHOD:PUBLISH
BEGIN:VTIMEZONE
TZID:America/Los_Angeles
X-LIC-LOCATION:America/Los_Angeles
BEGIN:DAYLIGHT
TZOFFSETFROM:-0800
TZOFFSETTO:-0700
TZNAME:PDT
DTSTART:19700308T020000
RRULE:FREQ=YEARLY;BYMONTH=3;BYDAY=2SU
END:DAYLIGHT
BEGIN:STANDARD
TZOFFSETFROM:-0700
TZOFFSETTO:-0800
TZNAME:PST
DTSTART:19701101T020000
RRULE:FREQ=YEARLY;BYMONTH=11;BYDAY=1SU
END:STANDARD
END:VTIMEZONE
BEGIN:VEVENT
UID:1464587:Event:31217
DTSTAMP:20260420T231702Z
SUMMARY:Peanut Butter Wolf
DESCRIPTION:Wed Apr 22\nPeanut Butter Wolf\nwith James Pants, Mayer Ha
 wthorne & the County\n\nGreat American Music Hall (GAMH)\n859 O'Farrel
 l Street\nSan Francisco, CA 94109\ncross street: Polk\ndistrict: Polk 
 Gulch/Van Ness\n(Doors at 8pm, Show at 9pm)\n\nDescription\nAs a young
  kid growing up in San Jose, Chris Manak sought out an escape from sub
 urbian life in the Silicon Valley. The age of nine was his coming of a
 ge. This was the year he discovered sports (Pittsburgh Pirates), video
  games (Pac man), girls (Anita Balderama), and hip hop (\"Rappers Deli
 ght\"). Alongside partner Sweet Steve, young Chris fashioned primitive
  mix-tapes (using the pause button) and ran amok at the local roller r
 ink.\n\nIn 1996, Peanut Butter Wolf founded Stones Throw Records. Char
 izma's posthumous \"My World Premiere\" was the single to launch the l
 abel. A few highlights in the beginning were the songs \"Unassisted\" 
 by Rasco, Super Duck Breaks LP by DJ Babu, and hip hop 7” series.\n\
 n- gamh.com\n\nFor more information visit https://trueskool.com/events
 /peanut-butter-wolf
DTSTART;TZID=America/Los_Angeles:20090422T200000
DTEND;TZID=America/Los_Angeles:20090423T000000
CATEGORIES:funk, breaks, hip, hop
LOCATION:Great American Music Hall, San Francisco
WEBSITE:http://www.gamh.com
URL:http://www.gamh.com
CONTACT:
ORGANIZER:Great American Music Hall
ATTACH;FMTTYPE="image/jpeg":http://storage.ning.com/topology/rest/1.0/
 file/get/2057412992?profile=original
ATTENDEE;ROLE=REQ-PARTICIPANT;PARTSTAT=ACCEPTED;RSVP=TRUE;CN="Editor's
  Pick":https://trueskool.com/profile/RentheVinylArchaeologist
END:VEVENT
END:VCALENDAR
