BEGIN:VCALENDAR
PRODID:NingEventWidget-v1
VERSION:2.0
METHOD:PUBLISH
BEGIN:VTIMEZONE
TZID:America/Los_Angeles
X-LIC-LOCATION:America/Los_Angeles
BEGIN:DAYLIGHT
TZOFFSETFROM:-0800
TZOFFSETTO:-0700
TZNAME:PDT
DTSTART:19700308T020000
RRULE:FREQ=YEARLY;BYMONTH=3;BYDAY=2SU
END:DAYLIGHT
BEGIN:STANDARD
TZOFFSETFROM:-0700
TZOFFSETTO:-0800
TZNAME:PST
DTSTART:19701101T020000
RRULE:FREQ=YEARLY;BYMONTH=11;BYDAY=1SU
END:STANDARD
END:VTIMEZONE
BEGIN:VEVENT
UID:1464587:Event:66079
DTSTAMP:20260421T125418Z
SUMMARY:\"Peaches\" with Kat o1o (Crown City Rockers) and DJ Lady Fing
 az
DESCRIPTION:Ready for a beautiful night of live music with the Bay Are
 a's \"Most Mind - Boggling-est Musician\" Kat o1o (Crown City Rockers)
  and our resident turntable-ist Lady Fingaz?\n\nIts one of my favorite
  \"Peaches\" events and its happening this Thursday @ Peaches @ Skylar
 k. Kat gets everybody high when she gets down with her keyboard! Come 
 enjoy the jam. --xoxo Masaye and the \"Peaches\" gals\n\nAbout Kat o1o
 \n...Prodigy Kat Ouano has been playing piano since the age of six. As
  the keyboardist for the Bay Area live hip-hop group Crown City Rocker
 s (formerly MISSION:), Kat has honed her skills recording and touring 
 world-wide. Having studied at the Berkelee College Of Music, the 23-ye
 ar-old's sound derives from classical and jazz traditions.\n\nKat spea
 ks a musical language that is specific and languid and brings a classi
 cal foundation into a jazz hip-hop era hungry for categorical blending
 . Steadily playing with Crown City Rockers, the Broun Fellinis and Var
 iable Unit. She has studio work and solo efforts in the wings.\n\nAbou
 t Lady Fingaz\nIn 2004, DJ Lady Fingaz was honored with Best Emerging 
 Hip-Hop Artist by Offbeats Best of the Beats awards for her accomplish
 ments throughout New Orleans. In 2006 she joined Females Wit Funk a co
 llective of the top female turntablists from around the world, which i
 ncludes the likes of femme fatales Shortee, Tyra From Saigon, Annalyze
 .\n\nAbout \"Peaches\"\n\"Peaches the Lady DJ Hip Hop party,\" is a we
 ekly event at Skylark bar in the Mission district of The City. It feat
 ures some of the Bay Area's most talented female DJs and skratch artis
 ts. Here, you'll experience top-notch Hip Hop, R&B, skratching, and vi
 ntage gems that make you move and groove. For a chill experience, ther
 e's lots of cozy tables and booths to chat and watch the dancing while
  you sip on a \"Peaches\" Bellini.\n\nBecome a fan at:\nhttp://www.fac
 ebook.com/pages/San-Francisco-CA/Peaches-Lady-DJ-Party/187432938362?re
 f=ts\n\nFor more information visit https://trueskool.com/events/peache
 s-with-kat-o1o-crown
DTSTART;TZID=America/Los_Angeles:20100916T220000
DTEND;TZID=America/Los_Angeles:20100917T013000
CATEGORIES:san, francisco, ca
LOCATION:Skylark Bar
WEBSITE:http://www.yearofthepeach.com
URL:http://www.yearofthepeach.com
CONTACT:
ORGANIZER;CN="masaye and the Peaches Gals":https://trueskool.com/profi
 le/masayeandthePeachesGals
ATTACH;FMTTYPE="image/jpeg":http://storage.ning.com/topology/rest/1.0/
 file/get/2247882974?profile=original
ATTENDEE;ROLE=REQ-PARTICIPANT;PARTSTAT=ACCEPTED;RSVP=TRUE;CN="masaye a
 nd the Peaches Gals":https://trueskool.com/profile/masayeandthePeaches
 Gals
END:VEVENT
END:VCALENDAR
