BEGIN:VCALENDAR
PRODID:NingEventWidget-v1
VERSION:2.0
METHOD:PUBLISH
BEGIN:VTIMEZONE
TZID:America/Los_Angeles
X-LIC-LOCATION:America/Los_Angeles
BEGIN:DAYLIGHT
TZOFFSETFROM:-0800
TZOFFSETTO:-0700
TZNAME:PDT
DTSTART:19700308T020000
RRULE:FREQ=YEARLY;BYMONTH=3;BYDAY=2SU
END:DAYLIGHT
BEGIN:STANDARD
TZOFFSETFROM:-0700
TZOFFSETTO:-0800
TZNAME:PST
DTSTART:19701101T020000
RRULE:FREQ=YEARLY;BYMONTH=11;BYDAY=1SU
END:STANDARD
END:VTIMEZONE
BEGIN:VEVENT
UID:1464587:Event:93551
DTSTAMP:20260420T045301Z
SUMMARY:\"Peaches\" 2 Year Anniversary / \"The BEATMAKERS\" CD give-aw
 ay
DESCRIPTION:It's our 2 year anniversary / Masaye's birthday and for al
 l the music lovin' fun times, love and support we are giving YOU the g
 ift of body and soul rocking music: a copy of our \"Peaches: The BEATM
 AKERS\" CD featuring Kanye, Dr. Dre, Premier, Neptunes and TImbaland m
 ixes by Inkfat, Lady FIngaz, Umami and ThatGirl.All the Peaches DJs wi
 ll play sets and Masaye will be in *RARE FORM* bartending / turning a 
 landmark age at midnight!! We thank you so much for two great years an
 d invite you to celebrate with us !! WISHING YOU LOVE AND HARMONY ♥ 
 ♥ ♥ --Masaye & the Peaches DJs PEACHES:Where premier lady DJs bump
  party-rockin' Hip Hop and well drinks are $4 all night long every Thu
 rsday at SF locals' \"Hip Hop Hub\" Skylark! Featuring Umami, DeeAndri
 od, Lady Fingaz , ThatGirl, Inkfat and guests. 21+$4 well drinks/ $4 H
 arlem shots/ $4 specials/ $9 for a Patron & Corona\n\nFor more informa
 tion visit https://trueskool.com/events/peaches-2-year-anniversary
DTSTART;TZID=America/Los_Angeles:20110804T210000
DTEND;TZID=America/Los_Angeles:20110805T020000
CATEGORIES:san, francisco, ca
LOCATION:Skylark Bar, San Francisco
WEBSITE:
URL:
CONTACT:
ORGANIZER;CN="masaye and the Peaches Gals":https://trueskool.com/profi
 le/masayeandthePeachesGals
ATTACH;FMTTYPE="image/jpeg":http://storage.ning.com/topology/rest/1.0/
 file/get/2247899430?profile=original
ATTENDEE;ROLE=REQ-PARTICIPANT;PARTSTAT=ACCEPTED;RSVP=TRUE;CN="masaye a
 nd the Peaches Gals":https://trueskool.com/profile/masayeandthePeaches
 Gals
END:VEVENT
END:VCALENDAR
