BEGIN:VCALENDAR
PRODID:NingEventWidget-v1
VERSION:2.0
METHOD:PUBLISH
BEGIN:VTIMEZONE
TZID:America/Los_Angeles
X-LIC-LOCATION:America/Los_Angeles
BEGIN:DAYLIGHT
TZOFFSETFROM:-0800
TZOFFSETTO:-0700
TZNAME:PDT
DTSTART:19700308T020000
RRULE:FREQ=YEARLY;BYMONTH=3;BYDAY=2SU
END:DAYLIGHT
BEGIN:STANDARD
TZOFFSETFROM:-0700
TZOFFSETTO:-0800
TZNAME:PST
DTSTART:19701101T020000
RRULE:FREQ=YEARLY;BYMONTH=11;BYDAY=1SU
END:STANDARD
END:VTIMEZONE
BEGIN:VEVENT
UID:1464587:Event:625102
DTSTAMP:20260422T091310Z
SUMMARY:PE 2.0 The Next Gen of Public Enemy
DESCRIPTION:The Next Gen of Public Enemy:\nPE 2.0\nSun, May 31, 2015\n
 Doors: 9:15 PM / Show: 9:30 PM\nYoshi's Oakland\nOakland, CA\n$19.00
 \n\n\nFor more information visit https://trueskool.com/events/pe-2-0-t
 he-next-gen-of-public-enemy
DTSTART;TZID=America/Los_Angeles:20150531T213000
DTEND;TZID=America/Los_Angeles:20150531T230000
CATEGORIES:"san francisco", oakland, berkley, "san jose", "bay area"
LOCATION:Yoshi's, Oakland
WEBSITE:https://www.ticketfly.com/purchase/event/790673?__utma=1.12272
 77617.1427488077.1427488583.1427579757.3&__utmb=1.5.10.1427579757&__ut
 mc=1&__utmx=-&__utmz=1.1427488583.2.2.utmcsr=google|utmccn=(organic)|u
 tmcmd=organic|utmctr=(not%20provided)&__utmv=-&__utmk=216920982
URL:https://www.ticketfly.com/purchase/event/790673?__utma=1.122727761
 7.1427488077.1427488583.1427579757.3&__utmb=1.5.10.1427579757&__utmc=1
 &__utmx=-&__utmz=1.1427488583.2.2.utmcsr=google|utmccn=(organic)|utmcm
 d=organic|utmctr=(not%20provided)&__utmv=-&__utmk=216920982
CONTACT:
ORGANIZER;CN="Editor's Pick":https://trueskool.com/profile/RentheVinyl
 Archaeologist
ATTACH;FMTTYPE="image/jpeg":http://storage.ning.com/topology/rest/1.0/
 file/get/2247974792?profile=original
ATTENDEE;ROLE=REQ-PARTICIPANT;PARTSTAT=ACCEPTED;RSVP=TRUE;CN="Editor's
  Pick":https://trueskool.com/profile/RentheVinylArchaeologist
END:VEVENT
END:VCALENDAR
