BEGIN:VCALENDAR
PRODID:NingEventWidget-v1
VERSION:2.0
METHOD:PUBLISH
BEGIN:VTIMEZONE
TZID:America/Los_Angeles
X-LIC-LOCATION:America/Los_Angeles
BEGIN:DAYLIGHT
TZOFFSETFROM:-0800
TZOFFSETTO:-0700
TZNAME:PDT
DTSTART:19700308T020000
RRULE:FREQ=YEARLY;BYMONTH=3;BYDAY=2SU
END:DAYLIGHT
BEGIN:STANDARD
TZOFFSETFROM:-0700
TZOFFSETTO:-0800
TZNAME:PST
DTSTART:19701101T020000
RRULE:FREQ=YEARLY;BYMONTH=11;BYDAY=1SU
END:STANDARD
END:VTIMEZONE
BEGIN:VEVENT
UID:1464587:Event:42951
DTSTAMP:20260421T064524Z
SUMMARY:paulie think
DESCRIPTION:Friday @ The Etiquette Lounge\nw/ Ceschi Ramos (fake four 
 records)\nBleubird (FL), Cars n' Trains (OR), myself n' others\n\nFor 
 more information visit https://trueskool.com/events/paulie-think-1
DTSTART;TZID=America/Los_Angeles:20091113T210000
DTEND;TZID=America/Los_Angeles:20091114T020000
CATEGORIES:hip, hop
LOCATION:Etiquette Lounge    San Francisco, CA
WEBSITE:
URL:
CONTACT:
ORGANIZER:
ATTACH;FMTTYPE="image/jpeg":
ATTENDEE;ROLE=REQ-PARTICIPANT;PARTSTAT=ACCEPTED;RSVP=TRUE;CN="Paulie T
 hink":https://trueskool.com/profile/PaulieThink
END:VEVENT
END:VCALENDAR
