BEGIN:VCALENDAR
PRODID:NingEventWidget-v1
VERSION:2.0
METHOD:PUBLISH
BEGIN:VTIMEZONE
TZID:America/Los_Angeles
X-LIC-LOCATION:America/Los_Angeles
BEGIN:DAYLIGHT
TZOFFSETFROM:-0800
TZOFFSETTO:-0700
TZNAME:PDT
DTSTART:19700308T020000
RRULE:FREQ=YEARLY;BYMONTH=3;BYDAY=2SU
END:DAYLIGHT
BEGIN:STANDARD
TZOFFSETFROM:-0700
TZOFFSETTO:-0800
TZNAME:PST
DTSTART:19701101T020000
RRULE:FREQ=YEARLY;BYMONTH=11;BYDAY=1SU
END:STANDARD
END:VTIMEZONE
BEGIN:VEVENT
UID:1464587:Event:654183
DTSTAMP:20260422T091029Z
SUMMARY:PARTYNEXTDOOR & JEREMIH
DESCRIPTION:SUNDAY, DEC 11PARTYNEXTDOOR & JEREMIHSummer’s Over Tour\
 nThe Masonic in San Francisco\nDoors open at 6:30pm. Show at 7:30pm.Pu
 blic on-sale: Friday, September 30 at 10AM PST>> BUY TICKETS\n\n\nFor 
 more information visit https://trueskool.com/events/partynextdoor-jere
 mih
DTSTART;TZID=America/Los_Angeles:20161211T193000
DTEND;TZID=America/Los_Angeles:20161211T230000
CATEGORIES:"bay area", "san francisco"
LOCATION:The Masonic, San Francisco
WEBSITE:http://concerts.livenation.com/event/1C005136DE807ACB?akamai-f
 eo=off
URL:http://concerts.livenation.com/event/1C005136DE807ACB?akamai-feo=o
 ff
CONTACT:
ORGANIZER:Live Nation
ATTACH;FMTTYPE="image/jpeg":http://storage.ning.com/topology/rest/1.0/
 file/get/2247991546?profile=original
ATTENDEE;ROLE=REQ-PARTICIPANT;PARTSTAT=ACCEPTED;RSVP=TRUE;CN="Editor's
  Pick":https://trueskool.com/profile/RentheVinylArchaeologist
END:VEVENT
END:VCALENDAR
