BEGIN:VCALENDAR
PRODID:NingEventWidget-v1
VERSION:2.0
METHOD:PUBLISH
BEGIN:VTIMEZONE
TZID:America/Los_Angeles
X-LIC-LOCATION:America/Los_Angeles
BEGIN:DAYLIGHT
TZOFFSETFROM:-0800
TZOFFSETTO:-0700
TZNAME:PDT
DTSTART:19700308T020000
RRULE:FREQ=YEARLY;BYMONTH=3;BYDAY=2SU
END:DAYLIGHT
BEGIN:STANDARD
TZOFFSETFROM:-0700
TZOFFSETTO:-0800
TZNAME:PST
DTSTART:19701101T020000
RRULE:FREQ=YEARLY;BYMONTH=11;BYDAY=1SU
END:STANDARD
END:VTIMEZONE
BEGIN:VEVENT
UID:1464587:Event:31164
DTSTAMP:20260420T210350Z
SUMMARY:Palestinian Peace Advocate, Grieving Father, speaks with Bay A
 rea Jews
DESCRIPTION:A Palestinian physician, whose three daughters and niece w
 ere killed on January 16 by Israeli shelling in Gaza, will speak to th
 e Bay Area's Jewish community about the reasons for his unwavering hop
 e for peace between Israelis and Palestinians.\n\nDr. Izzeldin Abuelai
 sh will address an audience at Kehilla Community Synagogue at 7PM on S
 unday, April 26th, an event co-sponsored by Kehilla, Americans for Pea
 ce Now, and the Bay Area chapter of Brit Tzedek v'Shalom.\n\nThe story
  of Abuelaish's personal loss was viewed when he called Israeli TV abo
 ut the loss of his family members. This tragedy was also covered world
 wide, including in a story written by the New York Times.\n\nFor more 
 information visit https://trueskool.com/events/palestinian-peace-advoc
 ate
DTSTART;TZID=America/Los_Angeles:20090426T190000
DTEND;TZID=America/Los_Angeles:20090426T220000
CATEGORIES:speaker, -, activism
LOCATION:Kehilla Community Synagogue, Piedmont, CA
WEBSITE:http://www.kehillasynagogue.org
URL:http://www.kehillasynagogue.org
CONTACT:510-849-1492
ORGANIZER:Brit Tzedek v'Shalom
ATTACH;FMTTYPE="image/jpeg":
ATTENDEE;ROLE=REQ-PARTICIPANT;PARTSTAT=ACCEPTED;RSVP=TRUE;CN=FullCalen
 dar:https://trueskool.com/profile/FullCalendar
END:VEVENT
END:VCALENDAR
