BEGIN:VCALENDAR
PRODID:NingEventWidget-v1
VERSION:2.0
METHOD:PUBLISH
BEGIN:VTIMEZONE
TZID:America/Los_Angeles
X-LIC-LOCATION:America/Los_Angeles
BEGIN:DAYLIGHT
TZOFFSETFROM:-0800
TZOFFSETTO:-0700
TZNAME:PDT
DTSTART:19700308T020000
RRULE:FREQ=YEARLY;BYMONTH=3;BYDAY=2SU
END:DAYLIGHT
BEGIN:STANDARD
TZOFFSETFROM:-0700
TZOFFSETTO:-0800
TZNAME:PST
DTSTART:19701101T020000
RRULE:FREQ=YEARLY;BYMONTH=11;BYDAY=1SU
END:STANDARD
END:VTIMEZONE
BEGIN:VEVENT
UID:1464587:Event:38736
DTSTAMP:20260420T213112Z
SUMMARY:Outside Lands Night Show ft. Street Sweeper Social Club & AmpL
 ive feat. Trackademicks & Kflay
DESCRIPTION:Outside Lands Night Show\nStreet Sweeper Social Club\nAmpL
 ive feat. Trackademicks & Kflay\n\nTHE INDEPENDENT - 628 DIVISADERO ST
 REET - SAN FRANCISCO, CA - 415.771.1421\nALL SHOWS 21 AND OVER\nDoors 
 9:30 PM | Show 10 PM\nTickets $25\nBuy Tickets\n\n\n\n\n\nFor more inf
 ormation visit https://trueskool.com/events/outside-lands-night-show-f
 t
DTSTART;TZID=America/Los_Angeles:20090828T213000
DTEND;TZID=America/Los_Angeles:20090828T230000
CATEGORIES:hip, hop, rock
LOCATION:THE INDEPENDENT, SAN FRANCISCO, CA
WEBSITE:http://www.ticketweb.com/snl/CalendarListings.action?venueId=t
 heindependentsf&month=7&year=2009
URL:http://www.ticketweb.com/snl/CalendarListings.action?venueId=thein
 dependentsf&month=7&year=2009
CONTACT:
ORGANIZER:Another Planet Entertainment
ATTACH;FMTTYPE="image/jpeg":http://storage.ning.com/topology/rest/1.0/
 file/get/2247859757?profile=original
ATTENDEE;ROLE=REQ-PARTICIPANT;PARTSTAT=ACCEPTED;RSVP=TRUE;CN=Bryan:htt
 ps://trueskool.com/profile/Bryan
ATTENDEE;ROLE=REQ-PARTICIPANT;PARTSTAT=ACCEPTED;RSVP=TRUE;CN="Ren the 
 Vinyl Archaeologist":https://trueskool.com/profile/xh51jvilojur
END:VEVENT
END:VCALENDAR
