BEGIN:VCALENDAR
PRODID:NingEventWidget-v1
VERSION:2.0
METHOD:PUBLISH
BEGIN:VTIMEZONE
TZID:America/Los_Angeles
X-LIC-LOCATION:America/Los_Angeles
BEGIN:DAYLIGHT
TZOFFSETFROM:-0800
TZOFFSETTO:-0700
TZNAME:PDT
DTSTART:19700308T020000
RRULE:FREQ=YEARLY;BYMONTH=3;BYDAY=2SU
END:DAYLIGHT
BEGIN:STANDARD
TZOFFSETFROM:-0700
TZOFFSETTO:-0800
TZNAME:PST
DTSTART:19701101T020000
RRULE:FREQ=YEARLY;BYMONTH=11;BYDAY=1SU
END:STANDARD
END:VTIMEZONE
BEGIN:VEVENT
UID:1464587:Event:38803
DTSTAMP:20260421T022311Z
SUMMARY:Outside Lands Music & Arts Festival Pearl Jam Incubus, Thiever
 y Corporation, Tom Jones, Silversun Pickups, The Nation, Q-Tip, Built 
 to Spill & More!
DESCRIPTION:\nOutside Lands\nMusic & Arts Festival\nPearl Jam\nIncubus
 , Thievery Corporation, Tom Jones, Silversun Pickups, The Nation, Q-Ti
 p, Built to Spill & More!\n\nGolden Gate Park\nSan Francisco, CA\nshow
  1:00PM\nBuy Tickets\n\nFor more information visit https://trueskool.c
 om/events/outside-lands-music-arts
DTSTART;TZID=America/Los_Angeles:20090828T130000
DTEND;TZID=America/Los_Angeles:20090828T230000
CATEGORIES:hip, hop, rock, electronica
LOCATION:Golden Gate Park, San Francisco, CA
WEBSITE:http://apeconcerts.com/popArtist07.cfm?cID=2027
URL:http://apeconcerts.com/popArtist07.cfm?cID=2027
CONTACT:
ORGANIZER:Another Planet Entertainment
ATTACH;FMTTYPE="image/jpeg":http://storage.ning.com/topology/rest/1.0/
 file/get/2247875689?profile=original
ATTENDEE;ROLE=REQ-PARTICIPANT;PARTSTAT=ACCEPTED;RSVP=TRUE;CN="Ren the 
 Vinyl Archaeologist":https://trueskool.com/profile/xh51jvilojur
END:VEVENT
END:VCALENDAR
