BEGIN:VCALENDAR
PRODID:NingEventWidget-v1
VERSION:2.0
METHOD:PUBLISH
BEGIN:VTIMEZONE
TZID:America/Los_Angeles
X-LIC-LOCATION:America/Los_Angeles
BEGIN:DAYLIGHT
TZOFFSETFROM:-0800
TZOFFSETTO:-0700
TZNAME:PDT
DTSTART:19700308T020000
RRULE:FREQ=YEARLY;BYMONTH=3;BYDAY=2SU
END:DAYLIGHT
BEGIN:STANDARD
TZOFFSETFROM:-0700
TZOFFSETTO:-0800
TZNAME:PST
DTSTART:19701101T020000
RRULE:FREQ=YEARLY;BYMONTH=11;BYDAY=1SU
END:STANDARD
END:VTIMEZONE
BEGIN:VEVENT
UID:1464587:Event:829221
DTSTAMP:20260423T205834Z
SUMMARY:OUTSIDE LANDS
DESCRIPTION:OUTSIDE LANDS\r\nTyler, The Creator, The Killers, Sturgill
  Simpson, Post Malone performing a special country set, and more!\r\nF
 riday, August 09, 2024 Show: 12:00pm\r\nGolden Gate Park San Francisco
 , CA\r\nThis festival is all ages.\r\n3-Day GA starting at $465 3-Day 
 GA+ starting at $715 3-Day VIP starting at $1,075 3-Day Golden Gate Cl
 ub starting at $5,095\n\nFor more information visit https://trueskool.
 com/events/outside-lands-7
DTSTART;TZID=America/Los_Angeles:20240809T120000
DTEND;TZID=America/Los_Angeles:20240809T220000
CATEGORIES:"bay area", oakland, "san francisco", "san jose", berkeley
LOCATION:Golden Gate Park, San Francisco
WEBSITE:https://sfoutsidelands.com/?utm_source=ATHRPLNT-ATHRPLNT&amp;u
 tm_medium=WebsiteListing&amp;utm_term=APE_EventListings&amp;utm_conten
 t=Custom&amp;utm_campaign=OL-2024
URL:https://sfoutsidelands.com/?utm_source=ATHRPLNT-ATHRPLNT&amp;utm_m
 edium=WebsiteListing&amp;utm_term=APE_EventListings&amp;utm_content=Cu
 stom&amp;utm_campaign=OL-2024
CONTACT:
ORGANIZER;CN="Editor's Pick":https://trueskool.com/profile/RentheVinyl
 Archaeologist
ATTACH;FMTTYPE="image/jpeg":https://storage.ning.com/topology/rest/1.0
 /file/get/12437689488?profile=original
ATTENDEE;ROLE=REQ-PARTICIPANT;PARTSTAT=ACCEPTED;RSVP=TRUE;CN="Editor's
  Pick":https://trueskool.com/profile/RentheVinylArchaeologist
END:VEVENT
END:VCALENDAR
