BEGIN:VCALENDAR
PRODID:NingEventWidget-v1
VERSION:2.0
METHOD:PUBLISH
BEGIN:VTIMEZONE
TZID:America/Los_Angeles
X-LIC-LOCATION:America/Los_Angeles
BEGIN:DAYLIGHT
TZOFFSETFROM:-0800
TZOFFSETTO:-0700
TZNAME:PDT
DTSTART:19700308T020000
RRULE:FREQ=YEARLY;BYMONTH=3;BYDAY=2SU
END:DAYLIGHT
BEGIN:STANDARD
TZOFFSETFROM:-0700
TZOFFSETTO:-0800
TZNAME:PST
DTSTART:19701101T020000
RRULE:FREQ=YEARLY;BYMONTH=11;BYDAY=1SU
END:STANDARD
END:VTIMEZONE
BEGIN:VEVENT
UID:1464587:Event:194006
DTSTAMP:20260421T143756Z
SUMMARY:Outside Lands 2013 ft. Paul McCartney, Red Hot Chili Peppers, 
 D'Angelo, Jurassic 5, A-Trak...
DESCRIPTION:\nFRIDAY-SUNDAY, AUGUST 9-11\nPaul McCartneyRed Hot Chili 
 Peppers\nD'Angelo :: Jurassic 5 :: A-Trak\nFishbone :: Daryll Hall & J
 ohn OatesNine Inch Nails :: PhoenixKaskade :: Vampire WeekendPretty Li
 ghts :: Yeah Yeah Yeahs\n\nVenue:Golden Gate Park  Location: San Franc
 isco, CA\nDate:Friday, August 9 - Sunday, August 11Show Time:12:00pmOn
  Sale Date:Thursday, April 4Ticket Price:Eager Beaver 3-Day Ticket - $
 195.00* Special 3-Day Ticket - $215.00* Parking 3-Day - $195.00 Shuttl
 e Pass 3-Day - $39.00\n*Limited Availability **All tickets are subject
  to applicable service charges and fees.\nFor more ticketing informati
 on please click here.\n\nEager Beaver and Special 3-Day Tickets - On 
 Sale Thursday, April 4th at 12PM PST!\nTo all the hitters, first mover
 s, tastemakers, influencers and eager beavers out there, your time has
  come. That small batch of Eager Beaver 3-Day Tickets to Outside Lands
  2013 will go on sale on Thursday, April 4th at High Noon Pacific Stan
 dard Time. And for the very first time if you don't act quickly enough
 , we will have a next level of Special 3-Day Tickets available when Ea
 ger Beaver sells out.\n\nFor more information visit https://trueskool.
 com/events/outside-lands-1
DTSTART;TZID=America/Los_Angeles:20130809T120000
DTEND;TZID=America/Los_Angeles:20130811T230000
CATEGORIES:"san francisco", california, "bay area"
LOCATION:Golden Gate Park, San Francisco
WEBSITE:http://www.sfoutsidelands.com/tickets/
URL:http://www.sfoutsidelands.com/tickets/
CONTACT:
ORGANIZER;CN="Editor's Pick":https://trueskool.com/profile/RentheVinyl
 Archaeologist
ATTACH;FMTTYPE="image/jpeg":http://storage.ning.com/topology/rest/1.0/
 file/get/2247940637?profile=original
ATTENDEE;ROLE=REQ-PARTICIPANT;PARTSTAT=ACCEPTED;RSVP=TRUE;CN="Nancy La
 ws":https://trueskool.com/profile/NancyLaws
ATTENDEE;ROLE=REQ-PARTICIPANT;PARTSTAT=ACCEPTED;RSVP=TRUE;CN="m.deep.m
 usic":https://trueskool.com/profile/mdeepmusic
ATTENDEE;ROLE=REQ-PARTICIPANT;PARTSTAT=ACCEPTED;RSVP=TRUE;CN="Ondie A"
 :https://trueskool.com/profile/OndieA
ATTENDEE;ROLE=REQ-PARTICIPANT;PARTSTAT=ACCEPTED;RSVP=TRUE;CN="Editor's
  Pick":https://trueskool.com/profile/RentheVinylArchaeologist
ATTENDEE;ROLE=REQ-PARTICIPANT;PARTSTAT=TENTATIVE;RSVP=TRUE;CN="Donte H
 arrison":https://trueskool.com/profile/DonteHarrison
END:VEVENT
END:VCALENDAR
