BEGIN:VCALENDAR
PRODID:NingEventWidget-v1
VERSION:2.0
METHOD:PUBLISH
BEGIN:VTIMEZONE
TZID:America/Los_Angeles
X-LIC-LOCATION:America/Los_Angeles
BEGIN:DAYLIGHT
TZOFFSETFROM:-0800
TZOFFSETTO:-0700
TZNAME:PDT
DTSTART:19700308T020000
RRULE:FREQ=YEARLY;BYMONTH=3;BYDAY=2SU
END:DAYLIGHT
BEGIN:STANDARD
TZOFFSETFROM:-0700
TZOFFSETTO:-0800
TZNAME:PST
DTSTART:19701101T020000
RRULE:FREQ=YEARLY;BYMONTH=11;BYDAY=1SU
END:STANDARD
END:VTIMEZONE
BEGIN:VEVENT
UID:1464587:Event:286457
DTSTAMP:20260420T200515Z
SUMMARY:OTN Presents YG .w. Hit Single \" MY NI**A\" Dec 21 @ Cameo
DESCRIPTION:OTN \nPresents \nYG \nW. Hit Single \n\" MY NI**A\"\nS
 aturday Dec 21 \n@ Cameo \n1445 Washington Ave\n\nMusic by: \nDJ FE
 RGIE & SPRINGER\nDJ BULLET PROOF\nDJ ENTICE \n\n\nFor more informatio
 n visit https://trueskool.com/events/otn-presents-yg-w-hit-single-my-n
 i-a-dec-21-cameo
DTSTART;TZID=America/Los_Angeles:20131221T220000
DTEND;TZID=America/Los_Angeles:20131222T040000
CATEGORIES:cameo, miami, beach, florida
LOCATION:Cameo, Miami Beach
WEBSITE:
URL:
CONTACT:
ORGANIZER;CN="Rockers Island":https://trueskool.com/profile/RockersIsl
 and
ATTACH;FMTTYPE="image/jpeg":http://storage.ning.com/topology/rest/1.0/
 file/get/2247955240?profile=original
ATTENDEE;ROLE=REQ-PARTICIPANT;PARTSTAT=ACCEPTED;RSVP=TRUE;CN="Rockers 
 Island":https://trueskool.com/profile/RockersIsland
END:VEVENT
END:VCALENDAR
