BEGIN:VCALENDAR
PRODID:NingEventWidget-v1
VERSION:2.0
METHOD:PUBLISH
BEGIN:VTIMEZONE
TZID:America/Los_Angeles
X-LIC-LOCATION:America/Los_Angeles
BEGIN:DAYLIGHT
TZOFFSETFROM:-0800
TZOFFSETTO:-0700
TZNAME:PDT
DTSTART:19700308T020000
RRULE:FREQ=YEARLY;BYMONTH=3;BYDAY=2SU
END:DAYLIGHT
BEGIN:STANDARD
TZOFFSETFROM:-0700
TZOFFSETTO:-0800
TZNAME:PST
DTSTART:19701101T020000
RRULE:FREQ=YEARLY;BYMONTH=11;BYDAY=1SU
END:STANDARD
END:VTIMEZONE
BEGIN:VEVENT
UID:1464587:Event:281762
DTSTAMP:20260421T111021Z
SUMMARY:ORBCO RECORD SWAP & MUSIC GEAR SALE
DESCRIPTION:THE ORBCO RECORD AND MUSIC GEAR SWAP DECEMBER 8 hey everyo
 ne ,,,,,,I AM LAUNCHING ,THE ORBCO RECORD AND MUSIC GEAR SWAP DECEMBER
  8 @ 1962 HARRISON 11-6\nITS MEANT TO BE A RELAXED SUNDAY THANG!!!\nTH
 IS IS A BRAND NEW GALLERY SPACE UNUSED FOR 20 YEARS\nIF YOU WANT TO SE
 LL RECORDS OR USED MUSIC GEAR A TABLE IS 25$ OR 2 CRATES OF RECORDS IS
  9$\nIF YOU BRING YOUR OWN FOLDING TABLE ITS ONLY 20$\nSELLERS CAN ARR
 IVE AT 9:45 AND PAY AND SET UP OR COME IN LATER WITHA FEW CRATES AND F
 IND A SPOT\n\nFor more information visit https://trueskool.com/events/
 orbco-record-swap-music-gear-sale
DTSTART;TZID=America/Los_Angeles:20131208T120000
DTEND;TZID=America/Los_Angeles:20131208T180000
CATEGORIES:san, francisco, mission
LOCATION:1962 GALLERY
WEBSITE:
URL:
CONTACT:
ORGANIZER;CN="orb kamm":https://trueskool.com/profile/orbkamm
ATTACH;FMTTYPE="image/jpeg":http://storage.ning.com/topology/rest/1.0/
 file/get/2247954472?profile=original
ATTENDEE;ROLE=REQ-PARTICIPANT;PARTSTAT=ACCEPTED;RSVP=TRUE;CN="orb kamm
 ":https://trueskool.com/profile/orbkamm
END:VEVENT
END:VCALENDAR
