BEGIN:VCALENDAR
PRODID:NingEventWidget-v1
VERSION:2.0
METHOD:PUBLISH
BEGIN:VTIMEZONE
TZID:America/Los_Angeles
X-LIC-LOCATION:America/Los_Angeles
BEGIN:DAYLIGHT
TZOFFSETFROM:-0800
TZOFFSETTO:-0700
TZNAME:PDT
DTSTART:19700308T020000
RRULE:FREQ=YEARLY;BYMONTH=3;BYDAY=2SU
END:DAYLIGHT
BEGIN:STANDARD
TZOFFSETFROM:-0700
TZOFFSETTO:-0800
TZNAME:PST
DTSTART:19701101T020000
RRULE:FREQ=YEARLY;BYMONTH=11;BYDAY=1SU
END:STANDARD
END:VTIMEZONE
BEGIN:VEVENT
UID:1464587:Event:647365
DTSTAMP:20260421T110555Z
SUMMARY:OPIUO
DESCRIPTION:The Opiuo BandJPOD the Beat ChefFriday Jun 10, 20169:00 PM
 21 and over$20 - $30\n\nFor more information visit https://trueskool.c
 om/events/opiuo
DTSTART;TZID=America/Los_Angeles:20160610T210000
DTEND;TZID=America/Los_Angeles:20160610T230000
CATEGORIES:"san francisco", oakland, berkley, "san jose", "bay area"
LOCATION:Mezzanine, San Francisco
WEBSITE:https://www.ticketfly.com/purchase/event/1154095?utm_source=Ve
 nue&utm_medium=Mezzanine
URL:https://www.ticketfly.com/purchase/event/1154095?utm_source=Venue&
 utm_medium=Mezzanine
CONTACT:
ORGANIZER;CN="Editor's Pick":https://trueskool.com/profile/RentheVinyl
 Archaeologist
ATTACH;FMTTYPE="image/jpeg":http://storage.ning.com/topology/rest/1.0/
 file/get/2247987696?profile=original
ATTENDEE;ROLE=REQ-PARTICIPANT;PARTSTAT=ACCEPTED;RSVP=TRUE;CN="Editor's
  Pick":https://trueskool.com/profile/RentheVinylArchaeologist
END:VEVENT
END:VCALENDAR
