BEGIN:VCALENDAR
PRODID:NingEventWidget-v1
VERSION:2.0
METHOD:PUBLISH
BEGIN:VTIMEZONE
TZID:America/Los_Angeles
X-LIC-LOCATION:America/Los_Angeles
BEGIN:DAYLIGHT
TZOFFSETFROM:-0800
TZOFFSETTO:-0700
TZNAME:PDT
DTSTART:19700308T020000
RRULE:FREQ=YEARLY;BYMONTH=3;BYDAY=2SU
END:DAYLIGHT
BEGIN:STANDARD
TZOFFSETFROM:-0700
TZOFFSETTO:-0800
TZNAME:PST
DTSTART:19701101T020000
RRULE:FREQ=YEARLY;BYMONTH=11;BYDAY=1SU
END:STANDARD
END:VTIMEZONE
BEGIN:VEVENT
UID:1464587:Event:672693
DTSTAMP:20260421T182937Z
SUMMARY:Opel presents HOJ (All Day I Dream / Tale &amp; Tone) at Monar
 ch
DESCRIPTION:Saturday, 27 January 2018\n10:00pm - 03:00am\n$15\n\nTICKE
 TS: http://www.ticketfly.com/event/1615639\nLine-up /\n:: Hoj (All D
 ay I Dream / Tale & Tone)  :: SYD GRIS (Opel / Opulent Temple)  :: GOL
 DEN RATIO (Exoendo & Dulce Vita) (Opulent Temple)\nAs you may know, ou
 r man Hoj was an Opel resident back in the day before he started blowi
 ng up and touring the world, being a mainstay on Robot Hearts's playa 
 line up, and playing alongside Lee Burridge at some of his biggest 'Al
 l Day I Dream' events and starting his own label with Lee - Tone & Tal
 e.  He's really caught on for a reason, hitting the sweet spots of gro
 ove and beauty, depth and drive. The fun and the journey.   Come hang
  with Hoj and friends in the intimacy of Monarch as we welcome him bac
 k again to one step where it all started. Last time we had Hoj out at 
 Monarch it sold out so pre-sales recommended!\n\nFor more information 
 visit https://trueskool.com/events/opel-presents-hoj-all-day-i-dream-t
 ale-amp-tone-at-monarch
DTSTART;TZID=America/Los_Angeles:20180127T220000
DTEND;TZID=America/Los_Angeles:20180128T030000
CATEGORIES:"san francisco", "bay area", "opel productions,", "monarch 
 sf"
LOCATION:Monarch, San Francisco
WEBSITE:http://www.ticketfly.com/event/1615639
URL:http://www.ticketfly.com/event/1615639
CONTACT:
ORGANIZER:Opel Productions
ATTACH;FMTTYPE="image/jpeg":http://storage.ning.com/topology/rest/1.0/
 file/get/2248004288?profile=original
ATTENDEE;ROLE=REQ-PARTICIPANT;PARTSTAT=ACCEPTED;RSVP=TRUE;CN="Monica S
 alazar":https://trueskool.com/profile/MonicaSalazar
END:VEVENT
END:VCALENDAR
