BEGIN:VCALENDAR
PRODID:NingEventWidget-v1
VERSION:2.0
METHOD:PUBLISH
BEGIN:VTIMEZONE
TZID:America/Los_Angeles
X-LIC-LOCATION:America/Los_Angeles
BEGIN:DAYLIGHT
TZOFFSETFROM:-0800
TZOFFSETTO:-0700
TZNAME:PDT
DTSTART:19700308T020000
RRULE:FREQ=YEARLY;BYMONTH=3;BYDAY=2SU
END:DAYLIGHT
BEGIN:STANDARD
TZOFFSETFROM:-0700
TZOFFSETTO:-0800
TZNAME:PST
DTSTART:19701101T020000
RRULE:FREQ=YEARLY;BYMONTH=11;BYDAY=1SU
END:STANDARD
END:VTIMEZONE
BEGIN:VEVENT
UID:1464587:Event:55057
DTSTAMP:20260421T020101Z
SUMMARY:One Drop
DESCRIPTION:Tonight Only! $5 Cover Charge\n\nFive top Reggae dancehall
  DJ's from around the Bay Area converge on the Craneway Pavilion on th
 e bay in Richmond. New off the hook venue.\n\n• Beatnok\n• Green B
 \n• Daneekah\n• Lionize\n• Black Love\n\nFor more information vi
 sit https://trueskool.com/events/one-drop
DTSTART;TZID=America/Los_Angeles:20100423T210000
DTEND;TZID=America/Los_Angeles:20100424T020000
CATEGORIES:dj, dancehall, reggae
LOCATION:Craneway Pavilion, Richmond, CA
WEBSITE:http://www.reggaeonthebay.net
URL:http://www.reggaeonthebay.net
CONTACT:510-234-2450
ORGANIZER;CN="Richard Lukens":https://trueskool.com/profile/RichardLuk
 ens
ATTACH;FMTTYPE="image/jpeg":http://storage.ning.com/topology/rest/1.0/
 file/get/2247877754?profile=original
ATTENDEE;ROLE=REQ-PARTICIPANT;PARTSTAT=ACCEPTED;RSVP=TRUE;CN="Richard 
 Lukens":https://trueskool.com/profile/RichardLukens
END:VEVENT
END:VCALENDAR
