BEGIN:VCALENDAR
PRODID:NingEventWidget-v1
VERSION:2.0
METHOD:PUBLISH
BEGIN:VTIMEZONE
TZID:America/Los_Angeles
X-LIC-LOCATION:America/Los_Angeles
BEGIN:DAYLIGHT
TZOFFSETFROM:-0800
TZOFFSETTO:-0700
TZNAME:PDT
DTSTART:19700308T020000
RRULE:FREQ=YEARLY;BYMONTH=3;BYDAY=2SU
END:DAYLIGHT
BEGIN:STANDARD
TZOFFSETFROM:-0700
TZOFFSETTO:-0800
TZNAME:PST
DTSTART:19701101T020000
RRULE:FREQ=YEARLY;BYMONTH=11;BYDAY=1SU
END:STANDARD
END:VTIMEZONE
BEGIN:VEVENT
UID:1464587:Event:62279
DTSTAMP:20260420T200018Z
SUMMARY:Oldies Beat Battle and Canned Food Drive
DESCRIPTION:Producers go head to head flipping oldies songs/samples pr
 ovided by Phillipdrummond into beats for cash prize. Also as canned fo
 od drive for Glide Memorial Food Bank.\nJudged and DJ'ed by Friendly T
 raveler with other special guest judges!\nCA$H prize for the winner pl
 us gear!\n\nfor more info and to enter:\n...philthy@philthybeats.com\n
 philthybeats.com\n@philthydrummond\nfacebook.com/philthydrummond\n\nSa
 mples for the battle:\nhttp://www.sendspace.com/file/3futfe\n\nCorrect
 ion for samples---the right version of Yakety Yak by the Coasters that
  should have been\nhttp://www.sendspace.com/file/cwm1hd\n\nFor more in
 formation visit https://trueskool.com/events/oldies-beat-battle-and-ca
 nned
DTSTART;TZID=America/Los_Angeles:20100729T220000
DTEND;TZID=America/Los_Angeles:20100730T020000
CATEGORIES:beat, battle
LOCATION:Element Lounge, San Francisco, CA
WEBSITE:http://philthybeats.com
URL:http://philthybeats.com
CONTACT:
ORGANIZER;CN=phillipdrummond:https://trueskool.com/profile/phillipdrum
 mond
ATTACH;FMTTYPE="image/jpeg":http://storage.ning.com/topology/rest/1.0/
 file/get/2247882141?profile=original
ATTENDEE;ROLE=REQ-PARTICIPANT;PARTSTAT=ACCEPTED;RSVP=TRUE;CN=phillipdr
 ummond:https://trueskool.com/profile/phillipdrummond
END:VEVENT
END:VCALENDAR
