BEGIN:VCALENDAR
PRODID:NingEventWidget-v1
VERSION:2.0
METHOD:PUBLISH
BEGIN:VTIMEZONE
TZID:America/Los_Angeles
X-LIC-LOCATION:America/Los_Angeles
BEGIN:DAYLIGHT
TZOFFSETFROM:-0800
TZOFFSETTO:-0700
TZNAME:PDT
DTSTART:19700308T020000
RRULE:FREQ=YEARLY;BYMONTH=3;BYDAY=2SU
END:DAYLIGHT
BEGIN:STANDARD
TZOFFSETFROM:-0700
TZOFFSETTO:-0800
TZNAME:PST
DTSTART:19701101T020000
RRULE:FREQ=YEARLY;BYMONTH=11;BYDAY=1SU
END:STANDARD
END:VTIMEZONE
BEGIN:VEVENT
UID:1464587:Event:842866
DTSTAMP:20260419T140025Z
SUMMARY:Ohgeesy (WIN TICKETS)
DESCRIPTION:ENTER TO WIN A PAIR OF TICKETS. WINNER WILL BE DRAWN RANDO
 MLY AND ANNOUNCED 2 DAYS PRIOR TO EVENT. \r\n\r\n\r\nFRIDAY, MAR 27\r
 \nOhgeesy\r\nThe UC Theatre, 2036 University Ave., Berkeley\r\nDoors: 
 7:00 pm. Show: 8:00 pm\r\nAll Ages\r\n>> BUY TICKETS\r\n\r\n\r\n\n\nFo
 r more information visit https://trueskool.com/events/ohgeesy-win-tick
 ets
DTSTART;TZID=America/Los_Angeles:20260327T190000
DTEND;TZID=America/Los_Angeles:20260327T230000
CATEGORIES:"bay area", berkeley
LOCATION:UC Theatre, Berkeley
WEBSITE:https://www.theuctheatre.org/shows/ohgeesy-27-mar#tickets
URL:https://www.theuctheatre.org/shows/ohgeesy-27-mar#tickets
CONTACT:
ORGANIZER:UC Theatre
ATTACH;FMTTYPE="image/jpeg":https://storage.ning.com/topology/rest/1.0
 /file/get/31096079062?profile=original
ATTENDEE;ROLE=REQ-PARTICIPANT;PARTSTAT=ACCEPTED;RSVP=TRUE;CN="Editor's
  Pick":https://trueskool.com/profile/RentheVinylArchaeologist
END:VEVENT
END:VCALENDAR
