BEGIN:VCALENDAR
PRODID:NingEventWidget-v1
VERSION:2.0
METHOD:PUBLISH
BEGIN:VTIMEZONE
TZID:America/Los_Angeles
X-LIC-LOCATION:America/Los_Angeles
BEGIN:DAYLIGHT
TZOFFSETFROM:-0800
TZOFFSETTO:-0700
TZNAME:PDT
DTSTART:19700308T020000
RRULE:FREQ=YEARLY;BYMONTH=3;BYDAY=2SU
END:DAYLIGHT
BEGIN:STANDARD
TZOFFSETFROM:-0700
TZOFFSETTO:-0800
TZNAME:PST
DTSTART:19701101T020000
RRULE:FREQ=YEARLY;BYMONTH=11;BYDAY=1SU
END:STANDARD
END:VTIMEZONE
BEGIN:VEVENT
UID:1464587:Event:70760
DTSTAMP:20260420T132042Z
SUMMARY:Offical Angel Magik 9-yr. Anniversary ft. Tanya Stephens, Rolo
  1-3, Jah Warrior Shelter...
DESCRIPTION:\nFRIDAY, NOVEMBER 26\nOffical Angel Magik 9-yr. Anniversa
 ry\nThe Reggae-Dancehall concert of the year\nFeaturing 2 events in 1:
  CONCERT & PARTY\n******************\nTHE CONCERT\nLive performance by
 \nTanya Stephens (The Queen of reggae dancehall)\n\nPlus: Young Fyah (
 One Blood/Angel Magik)\nDJs: Rolo 1-3 (Reggae Gold), Irie Dole (Jah Wa
 rrior Shelter), Senseless (Awtikal Soundz)\n\nplus $100 Dancehall Quee
 n Contest\nRegister at angelmagik@gmail.com\n\nHosted by: Jonny Mack, 
 DCs Soul Shakedown, Segue, Spicey Promotions, True Skool, Beyond Jazz 
 and Jaffe\n\n*******************\nTHE PARTY (3 rooms)\nROOM 1: Hip Hop
  club hits\nFeaturing DJs: Sake 1 (PST/Local1200), The C.M.E., Ren the
  Vinyl Archaeologist, Apollo (Triple Threat DJs), DJ Romeo, Mind Motio
 n\n\nROOM 2: Afro-Latin Brazilian\nLive performances by:\nBayonics & L
 oco Bloco Drummers\nDJs:Walt Diggz, Jeremiah, Marco (Bisap Baobob)\nHo
 sted by Jimmy Vargas, Jaffe Productions, Bisap Baobab, Theo: Caribe Li
 nq\n\nROOM 3: Reggae, Dancehall, Soca\nDJ Serg (Kittys), I-Vier (Jah W
 arrior Shelter), DJ Smoky (King of Kings), Green B (Coo Yah), DJ Theor
 y, Jaw Breaker (Angel Magik Riddim Express)\nHosted by: DeeCee's Soul 
 Shakedown & Spicey Promotions\n\nHot Caribbean Food will be served all
  night!\n\n@ 1015, 1015 Folsom, SF\n21+, Advance tickets $20\nBUY TICK
 ETS: unitednationsfestival.eventbrite.com\n \n\nFor more information v
 isit https://trueskool.com/events/offical-angel-magik-9yr
DTSTART;TZID=America/Los_Angeles:20101126T220000
DTEND;TZID=America/Los_Angeles:20101127T020000
CATEGORIES:san, francisco, ca
LOCATION:1015, San Francisco, CA
WEBSITE:http://angelmagik9yr.eventbrite.com/
URL:http://angelmagik9yr.eventbrite.com/
CONTACT:
ORGANIZER:Angel Magik
ATTACH;FMTTYPE="image/jpeg":http://storage.ning.com/topology/rest/1.0/
 file/get/2247887351?profile=original
ATTENDEE;ROLE=REQ-PARTICIPANT;PARTSTAT=ACCEPTED;RSVP=TRUE;CN="Ren the 
 Vinyl Archaeologist":https://trueskool.com/profile/xh51jvilojur
END:VEVENT
END:VCALENDAR
