BEGIN:VCALENDAR
PRODID:NingEventWidget-v1
VERSION:2.0
METHOD:PUBLISH
BEGIN:VTIMEZONE
TZID:America/Los_Angeles
X-LIC-LOCATION:America/Los_Angeles
BEGIN:DAYLIGHT
TZOFFSETFROM:-0800
TZOFFSETTO:-0700
TZNAME:PDT
DTSTART:19700308T020000
RRULE:FREQ=YEARLY;BYMONTH=3;BYDAY=2SU
END:DAYLIGHT
BEGIN:STANDARD
TZOFFSETFROM:-0700
TZOFFSETTO:-0800
TZNAME:PST
DTSTART:19701101T020000
RRULE:FREQ=YEARLY;BYMONTH=11;BYDAY=1SU
END:STANDARD
END:VTIMEZONE
BEGIN:VEVENT
UID:1464587:Event:62141
DTSTAMP:20260421T005817Z
SUMMARY:Odwalla’s “Rock the Bay” Ticket Giveaway and Contest Dea
 dline July 29
DESCRIPTION:\nOdwalla’s “Rock the Bay” Ticket Giveaway and Conte
 st\n\nNext month’s Outside Lands music festival at San Francisco's G
 olden Gate Park features several great acts such as Nas & Damian Marle
 y, Janelle Monae, Al Green and Kings of Leon. With its “Rock the Bay
 ” giveaway and contest, California-based Odwalla is giving music fan
 s the opportunity to not only see all these artists at the August 14-1
 5 festival, but to be a performer themselves.\n\nFrom now through July
  29 audition videos can be submitted via the “Fresh Stuff” tab at 
 www.facebook.com/odwalla and the winning performers will be contacted 
 the following week. These videos can be musical, danced or dance-like,
  spoken, artistic, a combination of these or another kind of original 
 performance – anything the fan chooses to perform – as long as it 
 is unique, positive and entertaining. Along with receiving two VIP tic
 kets, winners will get to perform for festival attendees on Odwalla’
 s “Living Flavor Vending Machine” performance stage.\n\nAlso part 
 of the program, Odwalla will be giving away a pair of Outside Lands ti
 ckets every day through July 29 via a sweepstakes also linked to throu
 gh the Odwalla Facebook page tab. More giveaway and contest details ca
 n be read here: http://pitch.pe/74302.\n\nFor more information visit h
 ttps://trueskool.com/events/odwallas-rock-the-bay-ticket
DTSTART;TZID=America/Los_Angeles:20100729T000000
DTEND;TZID=America/Los_Angeles:20100729T235900
CATEGORIES:contest, ticket, giveaway
LOCATION:San Francisco, CA
WEBSITE:http://www.facebook.com/odwalla
URL:http://www.facebook.com/odwalla
CONTACT:
ORGANIZER:Odwalla
ATTACH;FMTTYPE="image/jpeg":http://storage.ning.com/topology/rest/1.0/
 file/get/2106908017?profile=original
ATTENDEE;ROLE=REQ-PARTICIPANT;PARTSTAT=ACCEPTED;RSVP=TRUE;CN="Editor's
  Pick":https://trueskool.com/profile/RentheVinylArchaeologist
END:VEVENT
END:VCALENDAR
