BEGIN:VCALENDAR
PRODID:NingEventWidget-v1
VERSION:2.0
METHOD:PUBLISH
BEGIN:VTIMEZONE
TZID:America/Los_Angeles
X-LIC-LOCATION:America/Los_Angeles
BEGIN:DAYLIGHT
TZOFFSETFROM:-0800
TZOFFSETTO:-0700
TZNAME:PDT
DTSTART:19700308T020000
RRULE:FREQ=YEARLY;BYMONTH=3;BYDAY=2SU
END:DAYLIGHT
BEGIN:STANDARD
TZOFFSETFROM:-0700
TZOFFSETTO:-0800
TZNAME:PST
DTSTART:19701101T020000
RRULE:FREQ=YEARLY;BYMONTH=11;BYDAY=1SU
END:STANDARD
END:VTIMEZONE
BEGIN:VEVENT
UID:1464587:Event:666815
DTSTAMP:20260422T014912Z
SUMMARY:Oaktoberfest
DESCRIPTION:10th Annual Oaktoberfest in the Dimond \n\"Oakland’s Fa
 mily-Friendly Craft Beer Festival\"\n\nSaturday, September 30th from 1
 1:00AM - 7:00PM\nSunday, October 1st from 10:00AM - 5:00PM\nAdmission 
 free, family friendly & wheelchair accessible\nOakland’s Dimond Dist
 rict at Fruitvale Ave. and MacArthur Blvd\n\nFeaturing Live Performanc
 es with: \nJohn Santos Sextet w/ Orestes Vilató\nSOL development fe
 at Mino Yanci\nValerie Troutt & MoonCandy Live House Ensemble \nMJ's 
 Brass Boppers\nNamorados Da Lua\nBatala Dance & Drum Ensemble \nDetou
 r\nRUBaDUB Posse \n& MORE! \n\nFull line up & Ticket Packages availa
 ble at: OAKTOBERFEST.org \n\nFor more information visit https://trues
 kool.com/events/oaktoberfest
DTSTART;TZID=America/Los_Angeles:20170930T000000
DTEND;TZID=America/Los_Angeles:20171001T235900
CATEGORIES:oakland, california, ca, bay, area, east, the, town, dimond
 , macarthur, fruitvale
LOCATION:Dimond District, Oakland CA
WEBSITE:http://www.oaktoberfest.org
URL:http://www.oaktoberfest.org
CONTACT:
ORGANIZER;CN="miss candi":https://trueskool.com/profile/misscandi
ATTACH;FMTTYPE="image/jpeg":http://storage.ning.com/topology/rest/1.0/
 file/get/2248001980?profile=original
ATTENDEE;ROLE=REQ-PARTICIPANT;PARTSTAT=ACCEPTED;RSVP=TRUE;CN="miss can
 di":https://trueskool.com/profile/misscandi
END:VEVENT
END:VCALENDAR
