BEGIN:VCALENDAR
PRODID:NingEventWidget-v1
VERSION:2.0
METHOD:PUBLISH
BEGIN:VTIMEZONE
TZID:America/Los_Angeles
X-LIC-LOCATION:America/Los_Angeles
BEGIN:DAYLIGHT
TZOFFSETFROM:-0800
TZOFFSETTO:-0700
TZNAME:PDT
DTSTART:19700308T020000
RRULE:FREQ=YEARLY;BYMONTH=3;BYDAY=2SU
END:DAYLIGHT
BEGIN:STANDARD
TZOFFSETFROM:-0700
TZOFFSETTO:-0800
TZNAME:PST
DTSTART:19701101T020000
RRULE:FREQ=YEARLY;BYMONTH=11;BYDAY=1SU
END:STANDARD
END:VTIMEZONE
BEGIN:VEVENT
UID:1464587:Event:657066
DTSTAMP:20260422T140554Z
SUMMARY:OAKLAND UNITED
DESCRIPTION:OAKLAND UNITED\nfeaturing Beats Antique, Conspiracy of Bea
 rds, Dan Deacon, Fantastic Negrito, Geographer, Hieroglyphics, Jay Som
 , Kennedy Ashlyn and Anya Taylor, Primus, Rogue Wave, Thao Nguyen, The
  Coup, tUnE-yArDs, Tycho + more!\nFox TheaterOakland, CAWednesday, Dec
 ember 14, 2016Show: 7:00pm\n\nFor more information visit https://trues
 kool.com/events/oakland-united
DTSTART;TZID=America/Los_Angeles:20161214T190000
DTEND;TZID=America/Los_Angeles:20161214T230000
CATEGORIES:"san francisco", oakland, berkley, "san jose", "bay area"
LOCATION:Fox Theater, Oakland
WEBSITE:http://www.ticketmaster.com/event/1C0051888FDC1E74?camefrom=CF
 C_ANOTHERPLANET_web&brand=anotherplanet
URL:http://www.ticketmaster.com/event/1C0051888FDC1E74?camefrom=CFC_AN
 OTHERPLANET_web&brand=anotherplanet
CONTACT:
ORGANIZER;CN="Editor's Pick":https://trueskool.com/profile/RentheVinyl
 Archaeologist
ATTACH;FMTTYPE="image/jpeg":http://storage.ning.com/topology/rest/1.0/
 file/get/2247992838?profile=original
ATTENDEE;ROLE=REQ-PARTICIPANT;PARTSTAT=ACCEPTED;RSVP=TRUE;CN="Editor's
  Pick":https://trueskool.com/profile/RentheVinylArchaeologist
END:VEVENT
END:VCALENDAR
