BEGIN:VCALENDAR
PRODID:NingEventWidget-v1
VERSION:2.0
METHOD:PUBLISH
BEGIN:VTIMEZONE
TZID:America/Los_Angeles
X-LIC-LOCATION:America/Los_Angeles
BEGIN:DAYLIGHT
TZOFFSETFROM:-0800
TZOFFSETTO:-0700
TZNAME:PDT
DTSTART:19700308T020000
RRULE:FREQ=YEARLY;BYMONTH=3;BYDAY=2SU
END:DAYLIGHT
BEGIN:STANDARD
TZOFFSETFROM:-0700
TZOFFSETTO:-0800
TZNAME:PST
DTSTART:19701101T020000
RRULE:FREQ=YEARLY;BYMONTH=11;BYDAY=1SU
END:STANDARD
END:VTIMEZONE
BEGIN:VEVENT
UID:1464587:Event:239552
DTSTAMP:20260422T103029Z
SUMMARY:Oakland Massive w/ Chuy Gomez, Davey D, Mr. E, DJ Leydis, Stee
 lo (DJ set)
DESCRIPTION:\nFriday 9/06Parish Group & Steelo Entertainment PresentOa
 kland MassiveChuy Gomez, Davey D, Mr. E, DJ Leydis, Steelo (DJ set)\n@
  The New Parish579 18th Street (at San Pablo)Oakland, CA 94612Doors: 8
 :00 pm / Show: 9:00 pm$7 Door Cover - Free before 10:30This event is 1
 8 and over\n\nFor more information visit https://trueskool.com/events/
 oakland-massive-w-chuy-gomez-davey-d-mr-e-dj-leydis-steelo-dj-set
DTSTART;TZID=America/Los_Angeles:20130906T220000
DTEND;TZID=America/Los_Angeles:20130907T020000
CATEGORIES:"bay area", oakland
LOCATION:The New Parish, Oakland
WEBSITE:http://www.thenewparish.com/event/351809-oakland-massive-oakla
 nd/
URL:http://www.thenewparish.com/event/351809-oakland-massive-oakland/
CONTACT:
ORGANIZER:Parish Group & Steelo Entertainment
ATTACH;FMTTYPE="image/jpeg":http://storage.ning.com/topology/rest/1.0/
 file/get/2247947815?profile=original
ATTENDEE;ROLE=REQ-PARTICIPANT;PARTSTAT=ACCEPTED;RSVP=TRUE;CN="Editor's
  Pick":https://trueskool.com/profile/RentheVinylArchaeologist
END:VEVENT
END:VCALENDAR
