BEGIN:VCALENDAR
PRODID:NingEventWidget-v1
VERSION:2.0
METHOD:PUBLISH
BEGIN:VTIMEZONE
TZID:America/Los_Angeles
X-LIC-LOCATION:America/Los_Angeles
BEGIN:DAYLIGHT
TZOFFSETFROM:-0800
TZOFFSETTO:-0700
TZNAME:PDT
DTSTART:19700308T020000
RRULE:FREQ=YEARLY;BYMONTH=3;BYDAY=2SU
END:DAYLIGHT
BEGIN:STANDARD
TZOFFSETFROM:-0700
TZOFFSETTO:-0800
TZNAME:PST
DTSTART:19701101T020000
RRULE:FREQ=YEARLY;BYMONTH=11;BYDAY=1SU
END:STANDARD
END:VTIMEZONE
BEGIN:VEVENT
UID:1464587:Event:290291
DTSTAMP:20260420T211815Z
SUMMARY:NYE at NKC
DESCRIPTION:NYE AT NKC\nNKC staff invites you to come and celebrate th
 is NEW YEAR EVE with us.  We are pleased to bring a perfect blend of r
 eggae RnB and HIP HOP featuring DJ’S BLACK MARC; DC; DEE; YOUNG FYAH
   Hosted by SANA G; SHAY DIDDY; DC; SPICEY PROMOTIONS  Upscale attire 
 required 21 and up with id  http://nkcoakland.com/event/nye-at-nkc/ ht
 tp://facebook.com/newkaribbeancity  Email: NewKaribbeanCity@gmail.com\
 n\nTicket Link:\nhttp://nkcoakland.com/buy-tickets/\n\nFor more inform
 ation visit https://trueskool.com/events/nye-at-nkc
DTSTART;TZID=America/Los_Angeles:20131231T210000
DTEND;TZID=America/Los_Angeles:20140101T040000
CATEGORIES:nkc
LOCATION:NEW KARIBBEAN CITY
WEBSITE:http://nkcoakland.com/buy-tickets/
URL:http://nkcoakland.com/buy-tickets/
CONTACT:5102510769
ORGANIZER:New Karibbean City
ATTACH;FMTTYPE="image/jpeg":http://storage.ning.com/topology/rest/1.0/
 file/get/2247956082?profile=original
ATTENDEE;ROLE=REQ-PARTICIPANT;PARTSTAT=ACCEPTED;RSVP=TRUE;CN="Richard 
 Ali":https://trueskool.com/profile/RichardAli
END:VEVENT
END:VCALENDAR
