BEGIN:VCALENDAR
PRODID:NingEventWidget-v1
VERSION:2.0
METHOD:PUBLISH
BEGIN:VTIMEZONE
TZID:America/Los_Angeles
X-LIC-LOCATION:America/Los_Angeles
BEGIN:DAYLIGHT
TZOFFSETFROM:-0800
TZOFFSETTO:-0700
TZNAME:PDT
DTSTART:19700308T020000
RRULE:FREQ=YEARLY;BYMONTH=3;BYDAY=2SU
END:DAYLIGHT
BEGIN:STANDARD
TZOFFSETFROM:-0700
TZOFFSETTO:-0800
TZNAME:PST
DTSTART:19701101T020000
RRULE:FREQ=YEARLY;BYMONTH=11;BYDAY=1SU
END:STANDARD
END:VTIMEZONE
BEGIN:VEVENT
UID:1464587:Event:38516
DTSTAMP:20260420T194452Z
SUMMARY:NOSAJ THING AND FREE THE ROBOTS (BAY AREA)
DESCRIPTION:NewSense, Ungrammar, PLSTK, and PPRSTK present to you anot
 her memorable night of the Changing Same with a live performance by Lo
 s Angeles sensation Nosaj Thing @ The Agenda Lounge in San Jose on Fri
 day, September 4. And also back by popular demand, OBEY and the Crosby
 's own, Free the Robots! Dancers/B-boys, music appreciators, and open-
 minded folks can't miss this one. Come be a part of the change that Sa
 n Jose has been needing.\n\n\nNOSAJ THING (ALPHA PUP | LOS ANGELES)\nh
 ttp://nosajthing.com\nhttp://myspace.com/nosajthing\nhttp://www.last.f
 m/music/Nosaj+Thing\n\nLast year, Flying Lotus was the cream of the cr
 op, but 2009 belongs to Nosaj Thing, and the comparison between the sc
 enes isn’t lost on the young artist. Hailing from the intensely fert
 ile LA beat scene, Nosaj Thing aka Jason Chung is the latest in a line
  spanning from Flylo to the MF Gaslamp Killer to spin a new angle on s
 un drenched hiphop electronics. He shares a fascination for hiphop tem
 pos and electronic production methods with many of his peers, but what
  sets Nosaj out on his own is the filigree attention to detail paid to
  his work, combining a level of intricate melodic and harmonic complex
 ity generally associated with UK artists like Aphex Twin, whom Nosaj c
 ites as a major influence.\n\n\nFREE THE ROBOTS (ELSEWHERE | OBEY | SA
 NTA ANA)\nhttp://www.myspace.com/freetherobots\nhttp://www.robotfreedo
 m.blogspot.com\n\nUp next on the list, we have Santa Ana based produce
 r/DJ, Free The Robots (aka Chris Alfaro). Alfaro is a one man band tha
 t mixes digital samples snatched from vinyl records with original anal
 og compositions.\nHaving collaborated with and shared stages with The 
 Gaslamp Killer, Prefuse 73, Diplo, Flying Lotus, Boom Bip, and Nosaj T
 hing, Alfaro's work nestles in a niche not unlike that occupied by tho
 se artists.\n\n\nJazz, Breaks, Dubstep, Hip Hop all under one roof for
  one night!\n\n\nTICKETS:\nLimited $7 Pre-Sale Tickets Available:\n\nP
 LEASE SEND YOUR NAME TO GRAMMER.NEWSENSE@GMAIL.COM\n\nThere are no +1'
 s. One name per e-mail please.\n\n\n21+ | Doors Open @ 930PM | Dress a
 s Yourself\n\nFor more information visit https://trueskool.com/events/
 nosaj-thing-and-free-the
DTSTART;TZID=America/Los_Angeles:20090904T210000
DTEND;TZID=America/Los_Angeles:20090905T013000
CATEGORIES:hip, hop, electro, electronic, trip, garage, breaks, soul, 
 jazz
LOCATION:Agenda Lounge, San Jose, CA
WEBSITE:
URL:
CONTACT:4082873991
ORGANIZER:NS, UG, PPRSTK, PLSTK
ATTACH;FMTTYPE="image/jpeg":http://storage.ning.com/topology/rest/1.0/
 file/get/2247866206?profile=original
ATTENDEE;ROLE=REQ-PARTICIPANT;PARTSTAT=ACCEPTED;RSVP=TRUE;CN="Michael 
 Grammer":https://trueskool.com/profile/MichaelGrammer
END:VEVENT
END:VCALENDAR
