BEGIN:VCALENDAR
PRODID:NingEventWidget-v1
VERSION:2.0
METHOD:PUBLISH
BEGIN:VTIMEZONE
TZID:America/Los_Angeles
X-LIC-LOCATION:America/Los_Angeles
BEGIN:DAYLIGHT
TZOFFSETFROM:-0800
TZOFFSETTO:-0700
TZNAME:PDT
DTSTART:19700308T020000
RRULE:FREQ=YEARLY;BYMONTH=3;BYDAY=2SU
END:DAYLIGHT
BEGIN:STANDARD
TZOFFSETFROM:-0700
TZOFFSETTO:-0800
TZNAME:PST
DTSTART:19701101T020000
RRULE:FREQ=YEARLY;BYMONTH=11;BYDAY=1SU
END:STANDARD
END:VTIMEZONE
BEGIN:VEVENT
UID:1464587:Event:660993
DTSTAMP:20260422T110548Z
SUMMARY:Non Stop Bhangra - Spring Celebration
DESCRIPTION:This month Non Stop Bhangra celebrates the beautiful sprin
 g season and Vaisakhi Harvest Festival-a day known as Thanksgiving and
  New Year in the Punjabi culture. It's an auspicious time ushering in 
 a period of vibrancy and colorful festivities where dances of Punjab c
 ome alive and the vibrant beat of Dhol Drums fill the air with beautif
 ul rhythms and there is no better place to get lost in these rhythms t
 han on the Non Stop Bhangra dance floor!  April also celebrates Earth
  Day which coincides perfectly with Vaisakhi as its all about paying t
 ribute to mother earth.\nVoted one of the best dance parties in San Fr
 ancisco and a treat for the eyes and ears, the night features dance le
 sson, dance performances, live drummers, dj sets, visuals, live art, h
 enna painting and more.  Imagine a scene from a Bollywood movie smack
  in the middle of a thumping nightclub-swirling colors, the rhythm of 
 pounding feet, & the relentless energy of brilliant beats -thats Non S
 top Bhangra! \n \nGlimpse of the energy: https://player.vimeo.com/v
 ideo/159573397\n \nMORE INFO:  http://nsb132.eventbrite.com\n\nFor 
 more information visit https://trueskool.com/events/non-stop-bhangra-s
 pring-celebration
DTSTART;TZID=America/Los_Angeles:20170422T210000
DTEND;TZID=America/Los_Angeles:20170423T020000
CATEGORIES:"san francisco", "bay area"
LOCATION:Public Works, SF
WEBSITE:http://nsb132.eventbrite.com
URL:http://nsb132.eventbrite.com
CONTACT:
ORGANIZER;CN="Non Stop Bhangra":https://trueskool.com/profile/NonStopB
 hangra
ATTACH;FMTTYPE="image/jpeg":http://storage.ning.com/topology/rest/1.0/
 file/get/2247994617?profile=original
ATTENDEE;ROLE=REQ-PARTICIPANT;PARTSTAT=ACCEPTED;RSVP=TRUE;CN="Non Stop
  Bhangra":https://trueskool.com/profile/NonStopBhangra
END:VEVENT
END:VCALENDAR
