BEGIN:VCALENDAR
PRODID:NingEventWidget-v1
VERSION:2.0
METHOD:PUBLISH
BEGIN:VTIMEZONE
TZID:America/Los_Angeles
X-LIC-LOCATION:America/Los_Angeles
BEGIN:DAYLIGHT
TZOFFSETFROM:-0800
TZOFFSETTO:-0700
TZNAME:PDT
DTSTART:19700308T020000
RRULE:FREQ=YEARLY;BYMONTH=3;BYDAY=2SU
END:DAYLIGHT
BEGIN:STANDARD
TZOFFSETFROM:-0700
TZOFFSETTO:-0800
TZNAME:PST
DTSTART:19701101T020000
RRULE:FREQ=YEARLY;BYMONTH=11;BYDAY=1SU
END:STANDARD
END:VTIMEZONE
BEGIN:VEVENT
UID:1464587:Event:672487
DTSTAMP:20260421T164423Z
SUMMARY:Non Stop Bhangra Returns Feb 10th!
DESCRIPTION: Non Stop Bhangra continues the monthly tradition with ano
 ther banging installment of Dhol driven Bhangra beats, contagious danc
 e floor rhythms with swirling colors, bouncing shoulders, and wall to 
 wall smiles. As always a colorful installment featuring dance lesson,
  dance performances, Djs, drummers, visuals, live art, henna, and more
 . If you haven't been in a while, make 2018 the year you change that a
 nd and remember why you voted it \"Best Dance Party\" in the SF Bay Ar
 ea.  Saturday, Feb 10th Public Works | SF  More Info & Tickets: http:
 //nsb139.eventbrite.com\n\nFor more information visit https://trueskoo
 l.com/events/non-stop-bhangra-returns-feb-10th
DTSTART;TZID=America/Los_Angeles:20180210T210000
DTEND;TZID=America/Los_Angeles:20180211T020000
CATEGORIES:"san francisco", "bay area"
LOCATION:Public Works, SF, CA
WEBSITE:http://nsb139.eventbrite.com
URL:http://nsb139.eventbrite.com
CONTACT:
ORGANIZER;CN="Non Stop Bhangra":https://trueskool.com/profile/NonStopB
 hangra
ATTACH;FMTTYPE="image/jpeg":http://storage.ning.com/topology/rest/1.0/
 file/get/2248004643?profile=original
ATTENDEE;ROLE=REQ-PARTICIPANT;PARTSTAT=ACCEPTED;RSVP=TRUE;CN="Non Stop
  Bhangra":https://trueskool.com/profile/NonStopBhangra
END:VEVENT
END:VCALENDAR
