BEGIN:VCALENDAR
PRODID:NingEventWidget-v1
VERSION:2.0
METHOD:PUBLISH
BEGIN:VTIMEZONE
TZID:America/Los_Angeles
X-LIC-LOCATION:America/Los_Angeles
BEGIN:DAYLIGHT
TZOFFSETFROM:-0800
TZOFFSETTO:-0700
TZNAME:PDT
DTSTART:19700308T020000
RRULE:FREQ=YEARLY;BYMONTH=3;BYDAY=2SU
END:DAYLIGHT
BEGIN:STANDARD
TZOFFSETFROM:-0700
TZOFFSETTO:-0800
TZNAME:PST
DTSTART:19701101T020000
RRULE:FREQ=YEARLY;BYMONTH=11;BYDAY=1SU
END:STANDARD
END:VTIMEZONE
BEGIN:VEVENT
UID:1464587:Event:470280
DTSTAMP:20260421T003833Z
SUMMARY:Non Stop Bhangra Presents: Delhi 2 Dublin Live This Friday Nig
 ht!
DESCRIPTION:Info & Tickets: http://thenewparish.com/event.cfm?id=1807
 10&cart\n\nFor more information visit https://trueskool.com/events/non
 -stop-bhangra-presents-delhi-2-dublin-live-this-friday-night
DTSTART;TZID=America/Los_Angeles:20141121T210000
DTEND;TZID=America/Los_Angeles:20141122T020000
CATEGORIES:nonstopbhangra, delhi2dublin, newparish, oakland
LOCATION:The New Parish, Oakland, CA
WEBSITE:http://thenewparish.com/event.cfm?id=180710&cart
URL:http://thenewparish.com/event.cfm?id=180710&cart
CONTACT:
ORGANIZER;CN="Non Stop Bhangra":https://trueskool.com/profile/NonStopB
 hangra
ATTACH;FMTTYPE="image/jpeg":http://storage.ning.com/topology/rest/1.0/
 file/get/2247971361?profile=original
ATTENDEE;ROLE=REQ-PARTICIPANT;PARTSTAT=ACCEPTED;RSVP=TRUE;CN="Non Stop
  Bhangra":https://trueskool.com/profile/NonStopBhangra
END:VEVENT
END:VCALENDAR
