BEGIN:VCALENDAR
PRODID:NingEventWidget-v1
VERSION:2.0
METHOD:PUBLISH
BEGIN:VTIMEZONE
TZID:America/Los_Angeles
X-LIC-LOCATION:America/Los_Angeles
BEGIN:DAYLIGHT
TZOFFSETFROM:-0800
TZOFFSETTO:-0700
TZNAME:PDT
DTSTART:19700308T020000
RRULE:FREQ=YEARLY;BYMONTH=3;BYDAY=2SU
END:DAYLIGHT
BEGIN:STANDARD
TZOFFSETFROM:-0700
TZOFFSETTO:-0800
TZNAME:PST
DTSTART:19701101T020000
RRULE:FREQ=YEARLY;BYMONTH=11;BYDAY=1SU
END:STANDARD
END:VTIMEZONE
BEGIN:VEVENT
UID:1464587:Event:673962
DTSTAMP:20260422T235713Z
SUMMARY:Non Stop Bhangra Feat. PBN Live (UK)
DESCRIPTION:Non Stop Bhangra returns on April 21st with a special gues
 t headliner PBN--UK born, internationally known, singer, performer, an
 d producer whose contributions to the Asian music scene has been conti
 nuously recognized earning him prestigious awards including \"Best Sel
 ling British Asian Single\", \"Best Album\", \"Best Music Producer\", 
 \"Best Recording\" and more. In addition, his record label, Playback R
 ecords has gone on to sign and mentor British chart topping Asian Arti
 sts which include the powerhouse vocalist and upcoming Bhangra star, R
 aj Bains who will be performing alongside PBN at Non Stop Bhangra. In 
 the space of 2 years, they already have four official Number 1 singles
  in the Asian charts to their name. The entire Non Stop Bhangra crew w
 ill be in the house to round out the night with dance lesson, dance pe
 rformances, dj sets, live dhol drumming, visuals, live art, and more! 
 One of a kind night only found in SF and voted Best Dance Party in the
  SF Bay Area.More Info & Tickets: http://nsb141.eventbrite.com\n\nFor 
 more information visit https://trueskool.com/events/non-stop-bhangra-f
 eat-pbn-live-uk
DTSTART;TZID=America/Los_Angeles:20180421T210000
DTEND;TZID=America/Los_Angeles:20180422T020000
CATEGORIES:"san francisco", "bay area"
LOCATION:Public Works, SF, CA
WEBSITE:http://nsb141.eventbrite.com
URL:http://nsb141.eventbrite.com
CONTACT:
ORGANIZER;CN="Non Stop Bhangra":https://trueskool.com/profile/NonStopB
 hangra
ATTACH;FMTTYPE="image/jpeg":http://storage.ning.com/topology/rest/1.0/
 file/get/2248005184?profile=original
ATTENDEE;ROLE=REQ-PARTICIPANT;PARTSTAT=ACCEPTED;RSVP=TRUE;CN="Non Stop
  Bhangra":https://trueskool.com/profile/NonStopBhangra
END:VEVENT
END:VCALENDAR
